BEGIN:VCALENDAR
VERSION:2.0
PRODID:-//ChamberMaster//Event Calendar 2.0//EN
METHOD:PUBLISH
X-PUBLISHED-TTL:P3D
REFRESH-INTERVAL:P3D
CALSCALE:GREGORIAN
BEGIN:VEVENT
DTSTART;VALUE=DATE:20140308
DTEND;VALUE=DATE:20140309
TRANSP:TRANSPARENT
X-MICROSOFT-CDO-ALLDAYEVENT:TRUE
SUMMARY:VINEYARD ESTABLISHMENT SEMINAR
DESCRIPTION:VINEYARD ESTABLISHMENT SEMINAR\n\nMarch 8\, 2014\n\nInterested in establishing a vineyard in Georgia? Whether you're a hobbyist or considering a commercial vineyard\, this one seminar will provide the initial foundation you will need. Informational areas to be covered will be:\n\n\n\nSite Selection -Site Preparation -Varietal Selection -Trellis Systems -1st\, 2nd\, 3rd and Subsequent Year Pruning Techniques -Fruit Ripeness Evaluation -Harvest Considerations -Marketing Your Harvest And More!\n\n\n\nThe cost for the seminar will be $75 per person and will also include a luncheon and wine tasting.\n\nFor more information\, please inquire to info@cranecreekvineyards.com
X-ALT-DESC;FMTTYPE=text/html:VINEYARD ESTABLISHMENT SEMINAR<br />\nMarch 8\, 2014<br />\nInterested in establishing a vineyard in Georgia? Whether you&#39\;re a hobbyist or considering a commercial vineyard\, this one seminar will provide the initial foundation you will need. Informational areas to be covered will be:<br />\n<br />\nSite Selection -Site Preparation -Varietal Selection -Trellis Systems -1st\, 2nd\, 3rd and Subsequent Year Pruning Techniques -Fruit Ripeness Evaluation -Harvest Considerations -Marketing Your Harvest And More!<br />\n<br />\nThe cost for the seminar will be $75 per person and will also include a luncheon and wine tasting.<br />\nFor more information\, please inquire to info@cranecreekvineyards.com
LOCATION:Crane Creek Vineyards 916 Crane Creek Road Young Harris\, GA 30582
UID:e.256.22072
SEQUENCE:3
DTSTAMP:20260424T151846Z
URL:https://members.visitblairsvillega.com/events/details/vineyard-establishment-seminar-03-08-2014-22072
END:VEVENT

END:VCALENDAR
