BEGIN:VCALENDAR
VERSION:2.0
PRODID:-//ChamberMaster//Event Calendar 2.0//EN
METHOD:PUBLISH
X-PUBLISHED-TTL:P3D
REFRESH-INTERVAL:P3D
CALSCALE:GREGORIAN
BEGIN:VEVENT
DTSTART:20160903T220000Z
DTEND:20160904T010000Z
X-MICROSOFT-CDO-ALLDAYEVENT:FALSE
SUMMARY:Vino and Vibes After Hours at Hightower Creek Vineyards ft Red Fable
DESCRIPTION:Celebrate Labor Day weekend with a special evening edition of Vino & Vibes. We're excited to welcome Red Fable back to Hightower Creek for an summer evening of songs and stories. You'll love this group's mixture of humor\, music and more.\n\nAdmission is $10 and includes a glass of wine or tasting. Feel free to bring a picnic lunch or enjoy a cheese sampler from Udderly Cool Dairy! Children are welcome\, as are leashed pets (on the deck).
X-ALT-DESC;FMTTYPE=text/html:<p>Celebrate Labor Day&nbsp\;weekend with a special evening&nbsp\;edition of Vino &amp\; Vibes. We&rsquo\;re excited to welcome Red Fable back to Hightower Creek for an summer evening of songs and stories. You&rsquo\;ll love this group&rsquo\;s mixture of humor\, music and more.</p>\n\n<p>Admission is $10 and includes a glass of wine or tasting. Feel free to bring a picnic lunch or enjoy a cheese sampler from Udderly Cool Dairy! Children are welcome\, as are leashed pets (on the deck).</p>\n
LOCATION:7150 Canaan Drive Hiawassee\, GA 30546
UID:e.256.54481
SEQUENCE:3
DTSTAMP:20260420T145811Z
URL:https://members.visitblairsvillega.com/events/details/vino-and-vibes-after-hours-at-hightower-creek-vineyards-ft-red-fable-09-03-2016-54481
END:VEVENT

END:VCALENDAR
