BEGIN:VCALENDAR
VERSION:2.0
PRODID:-//ChamberMaster//Event Calendar 2.0//EN
METHOD:PUBLISH
X-PUBLISHED-TTL:P3D
REFRESH-INTERVAL:P3D
CALSCALE:GREGORIAN
BEGIN:VEVENT
DTSTART:20160702T220000Z
DTEND:20160703T010000Z
X-MICROSOFT-CDO-ALLDAYEVENT:FALSE
SUMMARY:Vino and Vibes After Hours at Hightower Creek Vineyards with Isaac Streetman
DESCRIPTION:Come enjoy a lovely summer evening with music from local star Isaac Streetman. Isaac is a new performer at Hightower Creek and has made a career out of his love for music after growing up in this area. Come check out his covers of classic rock and country as well as his original compositions.\n\nTickets are $10 and include a tasting or glass of wine. Feel free to bring a picnic lunch or try one of our cheese samplers from Udderly Cool Dairy! Children are welcome\, as are leashed pets (on the deck).
X-ALT-DESC;FMTTYPE=text/html:<p>Come enjoy a lovely summer evening with music from local star Isaac Streetman. Isaac&nbsp\;is a new performer at Hightower Creek&nbsp\;and has made a career out of his love for music after growing up in this area. Come check out his covers of classic rock and country as well as his original compositions.</p>\n\n<p>Tickets are $10 and include a tasting or glass of wine. Feel free to bring a picnic lunch or try one of our cheese samplers from Udderly Cool Dairy! Children are welcome\, as are leashed pets (on the deck).</p>\n
LOCATION:7150 Canaan Drive Hiawassee\, GA 30546
UID:e.256.53023
SEQUENCE:3
DTSTAMP:20260420T184709Z
URL:https://members.visitblairsvillega.com/events/details/vino-and-vibes-after-hours-at-hightower-creek-vineyards-with-isaac-streetman-07-02-2016-53023
END:VEVENT

END:VCALENDAR
