BEGIN:VCALENDAR
VERSION:2.0
PRODID:-//ChamberMaster//Event Calendar 2.0//EN
METHOD:PUBLISH
X-PUBLISHED-TTL:P3D
REFRESH-INTERVAL:P3D
CALSCALE:GREGORIAN
BEGIN:VEVENT
DTSTART:20160507T220000Z
DTEND:20160508T010000Z
X-MICROSOFT-CDO-ALLDAYEVENT:FALSE
SUMMARY:Vino and Vibes After Hours at Hightower Creek Vineyards with Kaleb and Jordan
DESCRIPTION:Enjoy a Saturday night under the stars with special guest Kaleb & Jordan! Kaleb Garrett is a multi-instrumentalist and songwriter from Hiawassee\, Georgia. True to his musical roots\, Kaleb performs an eclectic mix of folk\, rock\, and blues music- both originals and covers. Jordan Marshall is also a very accomplished singer/musician that performs a wide variety of genres. Together\, they are truly entertaining!\n\nAdmission is $10 and includes a tasting or glass of wine. Children are welcome! Leashed dogs are welcome on the deck. Feel free to bring a picnic\, or purchase an artisan cheese sampler!
X-ALT-DESC;FMTTYPE=text/html:<p>Enjoy a Saturday night under the stars with special guest Kaleb &amp\; Jordan! Kaleb Garrett is a multi-instrumentalist and songwriter from Hiawassee\, Georgia. True to his musical roots\, Kaleb performs an eclectic mix of folk\, rock\, and blues music- both originals and covers.&nbsp\;Jordan Marshall is also a very accomplished singer/musician that performs a wide variety of genres. Together\, they are truly entertaining!</p>\n\n<p>Admission is $10 and includes a tasting or glass of wine. Children are welcome! Leashed dogs are welcome on the deck. Feel free to bring a picnic\, or purchase an artisan cheese sampler!</p>\n
LOCATION:7150 Canaan Drive Hiawassee\, GA 30546
UID:e.256.51061
SEQUENCE:3
DTSTAMP:20260420T223418Z
URL:https://members.visitblairsvillega.com/events/details/vino-and-vibes-after-hours-at-hightower-creek-vineyards-with-kaleb-and-jordan-05-07-2016-51061
END:VEVENT

END:VCALENDAR
