BEGIN:VCALENDAR
VERSION:2.0
PRODID:-//ChamberMaster//Event Calendar 2.0//EN
METHOD:PUBLISH
X-PUBLISHED-TTL:P3D
REFRESH-INTERVAL:P3D
CALSCALE:GREGORIAN
BEGIN:VEVENT
DTSTART:20160402T220000Z
DTEND:20160403T010000Z
X-MICROSOFT-CDO-ALLDAYEVENT:FALSE
SUMMARY:Vino and Vibes After Hours kick-off at Hightower Creek Vineyards
DESCRIPTION:Tom Edwards kicks off our summertime evening concert series\, Vino & Vibes After Hours! Tom's musical influences range from blues to bluegrass. His original works are songs that tell stories. Tom placed second in the "Sounds Like Buffett To Me" competition. Who better to get summer started right!\n\nJoin us on the deck to celebrate the weekend and warm summer evenings the first Saturday of each month from 6:00   9:00pm.\n\nAdmission is $10 and includes a tasting or glass of wine. Children are welcome! Leashed dogs are welcome on the deck. Feel free to bring a picnic\, or purchase an artisan cheese sampler!
X-ALT-DESC;FMTTYPE=text/html:<p>Tom Edwards kicks off our summertime evening concert series\, Vino &amp\; Vibes After Hours! Tom&rsquo\;s musical influences range from blues to bluegrass. His original works are songs that tell stories. Tom placed second in the &ldquo\;Sounds Like Buffett To Me&rdquo\; competition. Who better to get summer started right!</p>\n\n<p>Join us on the deck to celebrate the weekend and warm summer evenings the first Saturday of each month from 6:00 &ndash\; 9:00pm.</p>\n\n<p>Admission is $10 and includes a tasting or glass of wine. Children are welcome! Leashed dogs are welcome on the deck. Feel free to bring a picnic\, or purchase an artisan cheese sampler!</p>\n
LOCATION:7150 Canaan Drive Hiawassee\, GA 30546
UID:e.256.50598
SEQUENCE:3
DTSTAMP:20260421T022626Z
URL:https://members.visitblairsvillega.com/events/details/vino-and-vibes-after-hours-kick-off-at-hightower-creek-vineyards-04-02-2016-50598
END:VEVENT

END:VCALENDAR
