BEGIN:VCALENDAR
VERSION:2.0
PRODID:-//ChamberMaster//Event Calendar 2.0//EN
METHOD:PUBLISH
X-PUBLISHED-TTL:P3D
REFRESH-INTERVAL:P3D
CALSCALE:GREGORIAN
BEGIN:VEVENT
DTSTART:20140426T160000Z
DTEND:20140426T220000Z
X-MICROSOFT-CDO-ALLDAYEVENT:FALSE
SUMMARY:"Vino and Vibes" and 2nd annual Bud-Break weekend at Hightower Creek Vineyards
DESCRIPTION:Join us for our summer series we have dubbed "Vino and Vibes" on Saturday 4/26/2014. We will be having Paul Constantine "Dr. Paul\," performing from 2-5pm. Paul is a solo\, acoustic musician/singer with a unique and powerful voice performing Country/Americana/Soul sounds.  We are also excited to be a part of the second annual Mountain Wine Country Bud-Break Weekend happening this weekend! Spend the weekend tasting what North Georgia & Western North Carolina have to offer! After last year's great turnout\, we're excited to participate again. Purchase a passport at all of the 12 participating wineries to enjoy tastings and special events all weekend. To learn more\, visit mountainwinecountry.com and sign up for the newsletter. The passport is $20.00 and includes a glass of wine or a tasting and the music... If you choose not to purchase the passport\, admission to Vino and Vibes is $10.00 and includes a glass of wine or a tasting! Bring a picnic lunch to enjoy with any of our wines or try one of our artisanal cheese samplers. We are open from 12-6 pm and the music is from 2-5pm (weather permitting.) Come out and join in on the fun! We look forward to seeing everyone!
X-ALT-DESC;FMTTYPE=text/html:Join us for our summer series we have dubbed &quot\;Vino and Vibes&quot\; on Saturday 4/26/2014. We will be having Paul Constantine &quot\;Dr. Paul\,&quot\; performing from 2-5pm. Paul is a solo\, acoustic musician/singer with a unique and powerful voice performing Country/Americana/Soul sounds. &nbsp\;We are also excited to be a part of the second annual Mountain Wine Country Bud-Break Weekend happening this weekend! Spend the weekend tasting what North Georgia &amp\; Western North Carolina have to offer! After last year&#39\;s great turnout\, we&#39\;re excited to participate again. Purchase a passport at all of the 12 participating wineries to enjoy tastings and special events all weekend. To learn more\, visit mountainwinecountry.com and sign up for the newsletter. The passport is $20.00 and includes a glass of wine or a tasting and the music... If you choose not to purchase the passport\, admission to Vino and Vibes is $10.00 and includes a glass of wine or a tasting! Bring a picnic lunch to enjoy with any of our wines or try one of our artisanal cheese samplers. We are open from 12-6 pm and the music is from 2-5pm (weather permitting.) Come out and join in on the fun! We look forward to seeing everyone!&nbsp\;
LOCATION:7150 Canaan Drive Hiawassee\, GA 30546
UID:e.256.24229
SEQUENCE:3
DTSTAMP:20260424T135625Z
URL:https://members.visitblairsvillega.com/events/details/vino-and-vibes-and-2nd-annual-bud-break-weekend-at-hightower-creek-vineyards-04-26-2014-24229
END:VEVENT

END:VCALENDAR
