BEGIN:VCALENDAR
VERSION:2.0
PRODID:-//ChamberMaster//Event Calendar 2.0//EN
METHOD:PUBLISH
X-PUBLISHED-TTL:P3D
REFRESH-INTERVAL:P3D
CALSCALE:GREGORIAN
BEGIN:VEVENT
DTSTART:20140906T180000Z
DTEND:20140906T210000Z
X-MICROSOFT-CDO-ALLDAYEVENT:FALSE
SUMMARY:"Vino and Vibes" and book signing with Jodi Helmer at Hightower Creek Vineyards
DESCRIPTION:Join us for "Vino and Vibes" on Saturday 9/6/2014 with the talented Wilhelm Brothers performing their folk rock tunes! We are excited to have them back! Admission is $10.00 and includes your first glass of wine or wine "lushie." We are open from 12-6pm and the music is from 2-5pm. Bring a picnic lunch to enjoy with any of our wines or try one our delicious artisanal cheese samplers. We are also now selling Wine-infused Ice Cream\, so be sure to ask about this delicious new treat! Dogs on leashes are allowed outside. We look forward to seeing everyone!\n\n \n\nAlso we will have a Book Signing with author Jodi Helmer in the Tasting Room from 2-5pm\n\nJodi will be signing her book: Farm Fresh Georgia- The Go-To Guide to Great Farmers' Markets\, Farm Stands\, Farms\, Wineries and more!
X-ALT-DESC;FMTTYPE=text/html:<div>Join us for &quot\;Vino and Vibes&quot\; on Saturday 9/6/2014 with the talented Wilhelm Brothers performing their folk rock tunes! We are excited to have them back! Admission is $10.00 and includes your first glass of wine or wine &quot\;lushie.&quot\; We are open from 12-6pm and the music is from 2-5pm. Bring a picnic lunch to enjoy with any of our wines or try one our delicious artisanal cheese samplers. We are also now selling Wine-infused Ice Cream\, so be sure to ask about this delicious new treat! Dogs on leashes are allowed outside. We look forward to seeing everyone!</div>\n\n<div>&nbsp\;</div>\n\n<div>Also we will have a Book Signing with author Jodi Helmer in the Tasting Room from 2-5pm</div>\n\n<div>Jodi will be signing her book: Farm Fresh Georgia- The Go-To Guide to Great Farmers&#39\; Markets\, Farm Stands\, Farms\, Wineries and more!</div>\n
LOCATION:7150 Canaan Drive Hiawassee\, GA 30546
UID:e.256.27278
SEQUENCE:3
DTSTAMP:20260424T074423Z
URL:https://members.visitblairsvillega.com/events/details/vino-and-vibes-and-book-signing-with-jodi-helmer-at-hightower-creek-vineyards-09-06-2014-27278
END:VEVENT

END:VCALENDAR
