BEGIN:VCALENDAR
VERSION:2.0
PRODID:-//ChamberMaster//Event Calendar 2.0//EN
METHOD:PUBLISH
X-PUBLISHED-TTL:P3D
REFRESH-INTERVAL:P3D
CALSCALE:GREGORIAN
BEGIN:VEVENT
DTSTART:20150328T160000Z
DTEND:20150328T210000Z
X-MICROSOFT-CDO-ALLDAYEVENT:FALSE
SUMMARY:Vino and Vibes at Hightower Creek Vineyards
DESCRIPTION:Our Vino and Vibes series this week features Kurt Johnston singing and playing! Kurt is a former guitarist of Bon Jovi and is such a talented singer and guitarist! He plays a wide variety of tunes you won't want to miss! $10.00 cover includes a glass of wine or wine tasting! Come join us for a fun Saturday afternoon!
X-ALT-DESC;FMTTYPE=text/html:Our Vino and Vibes series this week features Kurt Johnston singing and playing! Kurt is a former guitarist of Bon Jovi and is such a talented singer and guitarist! He plays a wide variety of tunes you won&#39\;t want to miss! $10.00 cover includes a glass of wine or wine tasting! Come join us for a fun Saturday afternoon!&nbsp\;
LOCATION:7150 Canaan Drive Hiawassee\, GA 30546
UID:e.256.36919
SEQUENCE:3
DTSTAMP:20260423T212506Z
URL:https://members.visitblairsvillega.com/events/details/vino-and-vibes-at-hightower-creek-vineyards-03-28-2015-36919
END:VEVENT

END:VCALENDAR
