BEGIN:VCALENDAR
VERSION:2.0
PRODID:-//ChamberMaster//Event Calendar 2.0//EN
METHOD:PUBLISH
X-PUBLISHED-TTL:P3D
REFRESH-INTERVAL:P3D
CALSCALE:GREGORIAN
BEGIN:VEVENT
DTSTART:20160402T160000Z
DTEND:20160402T210000Z
X-MICROSOFT-CDO-ALLDAYEVENT:FALSE
SUMMARY:"Vino and Vibes" at Hightower Creek Vineyards
DESCRIPTION:We're excited to welcome Hope Griffin back to Hightower Creek! Hope is a very talented singer/songwriter and we love to have her here. Hope's "in your-face" style of ballad writing\, as well as her reputation for playing songs that span through the decades has made her popular amongst a wide range of age groups. Hope continues to wow audiences and stretch the musical boundaries by switching from soulful ballads to high-energy blues with ease.
X-ALT-DESC;FMTTYPE=text/html:We&rsquo\;re excited to welcome Hope Griffin back to Hightower Creek! Hope is a very talented singer/songwriter and we love to have her here. Hope&rsquo\;s &ldquo\;in your-face&rdquo\; style of ballad writing\, as well as her reputation for playing songs that span through the decades has made her popular amongst a wide range of age groups. Hope continues to wow audiences and stretch the musical boundaries by switching from soulful ballads to high-energy blues with ease.
LOCATION:7150 Canaan Drive Hiawassee\, Ga 30546
UID:e.256.50568
SEQUENCE:3
DTSTAMP:20260421T002834Z
URL:https://members.visitblairsvillega.com/events/details/vino-and-vibes-at-hightower-creek-vineyards-04-02-2016-50568
END:VEVENT

END:VCALENDAR
