BEGIN:VCALENDAR
VERSION:2.0
PRODID:-//ChamberMaster//Event Calendar 2.0//EN
METHOD:PUBLISH
X-PUBLISHED-TTL:P3D
REFRESH-INTERVAL:P3D
CALSCALE:GREGORIAN
BEGIN:VEVENT
DTSTART:20150404T180000Z
DTEND:20150404T210000Z
X-MICROSOFT-CDO-ALLDAYEVENT:FALSE
SUMMARY:Vino and Vibes at Hightower Creek Vineyards
DESCRIPTION:This week for our Vino and Vibes series we will be having Hope Griffin performing her original songs along with a collection of soft rock\, country\, and blues! We are open from 12-6pm\, music is from 2-5pm. Admission is $10.00 and includes a glass of wine or wine tasting. Come enjoy an afternoon of great music and wine on our beautiful covered deck!
X-ALT-DESC;FMTTYPE=text/html:This week for our Vino and Vibes series we will be having Hope Griffin performing her original songs along with a collection of soft rock\, country\, and blues! We are open from 12-6pm\, music is from 2-5pm. Admission is $10.00 and includes a glass of wine or wine tasting. Come enjoy an afternoon of great music and wine on our beautiful covered deck!
LOCATION:7150 Canaan Drive Hiawassee\, GA 30546
UID:e.256.37901
SEQUENCE:3
DTSTAMP:20260423T200713Z
URL:https://members.visitblairsvillega.com/events/details/vino-and-vibes-at-hightower-creek-vineyards-04-04-2015-37901
END:VEVENT

END:VCALENDAR
