BEGIN:VCALENDAR
VERSION:2.0
PRODID:-//ChamberMaster//Event Calendar 2.0//EN
METHOD:PUBLISH
X-PUBLISHED-TTL:P3D
REFRESH-INTERVAL:P3D
CALSCALE:GREGORIAN
BEGIN:VEVENT
DTSTART:20140405T180000Z
DTEND:20140405T210000Z
X-MICROSOFT-CDO-ALLDAYEVENT:FALSE
SUMMARY:Vino and Vibes at Hightower Creek Vineyards
DESCRIPTION:We are kicking off our Saturday Vino and Vibes series on Saturday 4/5/14 with Sara Tucker performing from 2pm till 5pm! Sarah is a singer/songwriter with great talent in many genres including rock\, folk\, jazz\, and old time. Sarah was voted #1 Best Young Musician in Mountain Xpress "Best of WNC" in August 2013! We are very excited to have her performing with us!  Admission is $10 and includes a glass of wine or a tasting. Bring a picnic lunch to enjoy with our wines or try a cheese sampler from our wide variety of artisanal cheeses. We are open from 12pm - 6pm and the music is from 2-5 (weather permitting) Come and join in on the fun!
X-ALT-DESC;FMTTYPE=text/html:We are kicking off our Saturday Vino and Vibes series on Saturday&nbsp\;4/5/14 with Sara Tucker performing from 2pm till 5pm! Sarah is a singer/songwriter with&nbsp\;great talent in many genres including rock\, folk\, jazz\, and old time.&nbsp\;Sarah was voted&nbsp\;#1 Best Young Musician in Mountain Xpress&nbsp\;&quot\;Best of WNC&quot\; in August 2013!&nbsp\;We are very excited to have her performing with us!&nbsp\; Admission is $10 and includes a glass of wine or a tasting. Bring a picnic lunch to enjoy with our wines or try a cheese sampler from our wide variety of artisanal cheeses. We are open from 12pm - 6pm and the music is from 2-5 (weather permitting) Come and join in on the fun!
LOCATION:Hightower Creek Vineyards
UID:e.256.23604
SEQUENCE:3
DTSTAMP:20260424T133900Z
URL:https://members.visitblairsvillega.com/events/details/vino-and-vibes-at-hightower-creek-vineyards-04-05-2014-23604
END:VEVENT

END:VCALENDAR
