BEGIN:VCALENDAR
VERSION:2.0
PRODID:-//ChamberMaster//Event Calendar 2.0//EN
METHOD:PUBLISH
X-PUBLISHED-TTL:P3D
REFRESH-INTERVAL:P3D
CALSCALE:GREGORIAN
BEGIN:VEVENT
DTSTART:20140412T180000Z
DTEND:20140412T210000Z
X-MICROSOFT-CDO-ALLDAYEVENT:FALSE
SUMMARY:Vino and Vibes at Hightower Creek Vineyards
DESCRIPTION:Our summer series we have dubbed "Vino and Vibes" continues this Saturday 4/12/2014 with Wyatt Espalin and Trees Leave performing from 2-5pm!\n\nOver the years Trees Leave have crafted a sound that marries their Bluegrass roots with their love of Rock\, Blues and Traditional Country music. Whether they are plugged in or sitting on their back porch the urgency in their music and performance is hard to ignore! They have shared the stage with many famous performers and we are very excited to have them performing at Hightower Creek Vineyards!\n\n \n\nAdmission is $10.00 and includes a glass of wine or a tasting. We are open from 12-6 pm and the music is from 2-5pm (weather permitting.) Feel free to bring a picnic lunch to enjoy with any of our wines! We look forward to seeing everyone!
X-ALT-DESC;FMTTYPE=text/html:<div>Our summer series we have dubbed &quot\;Vino and Vibes&quot\; continues this Saturday 4/12/2014 with Wyatt Espalin and Trees Leave performing from 2-5pm!</div>\n\n<div>Over the years Trees Leave have crafted a sound that marries their Bluegrass roots with their love of Rock\, Blues and Traditional Country music. Whether they are plugged in or sitting on their back porch the urgency in their music and performance is hard to ignore! They have shared the stage with many famous performers and we are very excited to have them performing at Hightower Creek Vineyards!</div>\n\n<div>&nbsp\;</div>\n\n<div>Admission is $10.00 and includes a glass of wine or a tasting. We are open from 12-6 pm and the music is from 2-5pm (weather permitting.) Feel free to bring a picnic lunch to enjoy with any of our wines! We look forward to seeing everyone!</div>\n
LOCATION:Hightower Creek Vineyards 7150 Canaan Dr Hiawassee\, GA 30546
UID:e.256.23658
SEQUENCE:3
DTSTAMP:20260424T133922Z
URL:https://members.visitblairsvillega.com/events/details/vino-and-vibes-at-hightower-creek-vineyards-04-12-2014-23658
END:VEVENT

END:VCALENDAR
