BEGIN:VCALENDAR
VERSION:2.0
PRODID:-//ChamberMaster//Event Calendar 2.0//EN
METHOD:PUBLISH
X-PUBLISHED-TTL:P3D
REFRESH-INTERVAL:P3D
CALSCALE:GREGORIAN
BEGIN:VEVENT
DTSTART:20160416T180000Z
DTEND:20160416T210000Z
X-MICROSOFT-CDO-ALLDAYEVENT:FALSE
SUMMARY:Vino and Vibes at Hightower Creek Vineyards
DESCRIPTION:Come join us for an afternoon of music and more with featured guest Teddy Baker. Teddy is a solo artist who sings and plays some of his favorite classics as well as songs he has written about the wonder of life\, love\, and the pursuit of happiness. Grab a glass of wine and enjoy!\n\nAdmission is $10 and includes a tasting or glass of wine. Children are welcome! Leashed dogs are welcome on the deck. Feel free to bring a picnic\, or purchase an artisan cheese sampler!
X-ALT-DESC;FMTTYPE=text/html:<p>Come join us for an afternoon of music and more with featured guest Teddy Baker. Teddy is a solo artist who sings and plays some of his favorite classics as well as songs he has written about the wonder of life\, love\, and the pursuit of happiness. Grab a glass of wine and enjoy!</p>\n\n<p>Admission is $10 and includes a tasting or glass of wine. Children are welcome! Leashed dogs are welcome on the deck. Feel free to bring a picnic\, or purchase an artisan cheese sampler!</p>\n
LOCATION:7150 Canaan Drive Hiawassee\, GA 30546
UID:e.256.50600
SEQUENCE:3
DTSTAMP:20260421T003619Z
URL:https://members.visitblairsvillega.com/events/details/vino-and-vibes-at-hightower-creek-vineyards-04-16-2016-50600
END:VEVENT

END:VCALENDAR
