BEGIN:VCALENDAR
VERSION:2.0
PRODID:-//ChamberMaster//Event Calendar 2.0//EN
METHOD:PUBLISH
X-PUBLISHED-TTL:P3D
REFRESH-INTERVAL:P3D
CALSCALE:GREGORIAN
BEGIN:VEVENT
DTSTART:20150418T180000Z
DTEND:20150418T210000Z
X-MICROSOFT-CDO-ALLDAYEVENT:FALSE
SUMMARY:Vino and Vibes at Hightower Creek Vineyards
DESCRIPTION:Our Vino and Vibes series we will having performers! We are open from 12-6pm\, music is from 2-5pm. Admission is $10.00 and includes a glass of wine or wine tasting. Come enjoy an afternoon of great music and wine on our beautiful covered deck!
X-ALT-DESC;FMTTYPE=text/html:Our Vino and Vibes series we will having performers! We are open from 12-6pm\, music is from 2-5pm. Admission is $10.00 and includes a glass of wine or wine tasting. Come enjoy an afternoon of great music and wine on our beautiful covered deck!
LOCATION:7150 Canaan Drive Hiawassee\, GA 30546
UID:e.256.38101
SEQUENCE:3
DTSTAMP:20260423T200714Z
URL:https://members.visitblairsvillega.com/events/details/vino-and-vibes-at-hightower-creek-vineyards-04-18-2015-38101
END:VEVENT

END:VCALENDAR
