BEGIN:VCALENDAR
VERSION:2.0
PRODID:-//ChamberMaster//Event Calendar 2.0//EN
METHOD:PUBLISH
X-PUBLISHED-TTL:P3D
REFRESH-INTERVAL:P3D
CALSCALE:GREGORIAN
BEGIN:VEVENT
DTSTART:20140419T180000Z
DTEND:20140419T210000Z
X-MICROSOFT-CDO-ALLDAYEVENT:FALSE
SUMMARY:Vino and Vibes at Hightower Creek Vineyards
DESCRIPTION:Our "Vino and Vibes" series continues this Saturday 4/19/2014 with Kurt Johnston performing from 2-5pm!\n\nAdmission is $10.00 and includes a glass of wine or a tasting. We are open from 12-6 pm and the music is from 2-5pm. (Weather permitting) Feel free to bring a picnic lunch to enjoy with any of our wines! We look forward to seeing everyone there!
X-ALT-DESC;FMTTYPE=text/html:<div>Our &quot\;Vino and Vibes&quot\; series continues this Saturday 4/19/2014 with Kurt Johnston performing from 2-5pm!</div>\n\n<div>Admission is $10.00 and includes a glass of wine or a tasting. We are open from 12-6 pm and the music is from 2-5pm. (Weather permitting) Feel free to bring a picnic lunch to enjoy with any of our wines! We look forward to seeing everyone there!</div>\n
LOCATION:Hightower Creek Vineyards 7150 Canaan Dr Hiawassee\, GA 30546
UID:e.256.24095
SEQUENCE:3
DTSTAMP:20260424T133901Z
URL:https://members.visitblairsvillega.com/events/details/vino-and-vibes-at-hightower-creek-vineyards-04-19-2014-24095
END:VEVENT

END:VCALENDAR
