BEGIN:VCALENDAR
VERSION:2.0
PRODID:-//ChamberMaster//Event Calendar 2.0//EN
METHOD:PUBLISH
X-PUBLISHED-TTL:P3D
REFRESH-INTERVAL:P3D
CALSCALE:GREGORIAN
BEGIN:VEVENT
DTSTART:20160430T180000Z
DTEND:20160430T210000Z
X-MICROSOFT-CDO-ALLDAYEVENT:FALSE
SUMMARY:Vino and Vibes at Hightower Creek Vineyards
DESCRIPTION:Join us Saturday afternoon on the deck as we welcome Paul Constantine to Vino & Vibes on the deck.\n\nPaul Constantine\, or Dr. Paul as he's known to his fans\, is a troubadour in every sense of the word. From the Gulf coast of Florida\, to Music City and all points in between\, fans of his acoustic solo performances have fallen in love with his utterly original interpretations of the work of songwriters great and small. In his deft hands familiar songs are rendered fresh\, as though being heard for the first time\, and lesser-known songs are thoroughly owned and yet oddly familiar.\n\nAdmission is $10 and includes a tasting or glass of wine. Children are welcome! Leashed dogs are welcome on the deck. Feel free to bring a picnic\, or purchase an artisan cheese sampler!
X-ALT-DESC;FMTTYPE=text/html:<p>Join us Saturday afternoon on the deck as we welcome Paul Constantine to Vino &amp\; Vibes on the deck.</p>\n\n<p>Paul Constantine\, or Dr. Paul as he&rsquo\;s known to his fans\, is a troubadour in every sense of the word. From the Gulf coast of Florida\, to Music City and all points in between\, fans of his acoustic solo performances have fallen in love with his utterly original interpretations of the work of songwriters great and small. In his deft hands familiar songs are rendered fresh\, as though being heard for the first time\, and lesser-known songs are thoroughly owned and yet oddly familiar.</p>\n\n<p>Admission is $10 and includes a tasting or glass of wine. Children are welcome! Leashed dogs are welcome on the deck. Feel free to bring a picnic\, or purchase an artisan cheese sampler!</p>\n
LOCATION:7150 Canaan Drive Hiawassee\, GA 30546
UID:e.256.50603
SEQUENCE:3
DTSTAMP:20260421T002833Z
URL:https://members.visitblairsvillega.com/events/details/vino-and-vibes-at-hightower-creek-vineyards-04-30-2016-50603
END:VEVENT

END:VCALENDAR
