BEGIN:VCALENDAR
VERSION:2.0
PRODID:-//ChamberMaster//Event Calendar 2.0//EN
METHOD:PUBLISH
X-PUBLISHED-TTL:P3D
REFRESH-INTERVAL:P3D
CALSCALE:GREGORIAN
BEGIN:VEVENT
DTSTART:20150502T180000Z
DTEND:20150502T210000Z
X-MICROSOFT-CDO-ALLDAYEVENT:FALSE
SUMMARY:Vino and Vibes at Hightower Creek Vineyards
DESCRIPTION:Our Vino and Vibes series continues this week featuring Monica Spears and Derek Worth! They are a talented\, dynamic duo who are always so much fun to listen to! Music is from 2-5pm\, we are open from 12-6pm. Admission is $10.00 and includes a glass of wine or wine tasting! Bring a picnic lunch to enjoy with any of our wines or try one of our cheese samplers! Children are welcome and leashed pets are permitted outside. Come enjoy this fun Saturday afternoon event with us!
X-ALT-DESC;FMTTYPE=text/html:Our Vino and Vibes series continues this week featuring Monica Spears and Derek Worth! They are a talented\, dynamic duo who are always so much fun to listen to! Music is from 2-5pm\, we are open from 12-6pm. Admission is $10.00 and includes a glass of wine or wine tasting! Bring a picnic lunch to enjoy with any of our wines or try one of our cheese samplers! Children are welcome and leashed pets are permitted outside. Come enjoy this fun Saturday afternoon event with us!
LOCATION:7150 Canaan Drive Hiawassee\, GA 30546
UID:e.256.40001
SEQUENCE:3
DTSTAMP:20260423T182707Z
URL:https://members.visitblairsvillega.com/events/details/vino-and-vibes-at-hightower-creek-vineyards-05-02-2015-40001
END:VEVENT

END:VCALENDAR
