BEGIN:VCALENDAR
VERSION:2.0
PRODID:-//ChamberMaster//Event Calendar 2.0//EN
METHOD:PUBLISH
X-PUBLISHED-TTL:P3D
REFRESH-INTERVAL:P3D
CALSCALE:GREGORIAN
BEGIN:VEVENT
DTSTART:20140503T180000Z
DTEND:20140503T210000Z
X-MICROSOFT-CDO-ALLDAYEVENT:FALSE
SUMMARY:"Vino and Vibes" at Hightower Creek Vineyards
DESCRIPTION:Join us on Saturday 5/3/2014 for "Vino and Vibes" with Ron Harrell performing! Admission to "Vino and Vibes" is $10.00 and includes a glass of wine. Bring a picnic lunch to enjoy with our wines or try one of our artisanal cheese samplers. We are open from 12-6pm and the music is from 2-5pm. We look forward to seeing everyone!
X-ALT-DESC;FMTTYPE=text/html:Join us on Saturday 5/3/2014 for &quot\;Vino and Vibes&quot\; with Ron Harrell performing!&nbsp\;Admission to &quot\;Vino and Vibes&quot\; is $10.00 and includes a glass of wine. Bring a picnic lunch to enjoy with our wines or try one of our artisanal cheese samplers. We are open from 12-6pm and the music is from 2-5pm. We look forward to seeing everyone!
LOCATION:7150 Canaan Drive Hiawassee\, Ga 30546
UID:e.256.24252
SEQUENCE:3
DTSTAMP:20260424T122533Z
URL:https://members.visitblairsvillega.com/events/details/vino-and-vibes-at-hightower-creek-vineyards-05-03-2014-24252
END:VEVENT

END:VCALENDAR
