BEGIN:VCALENDAR
VERSION:2.0
PRODID:-//ChamberMaster//Event Calendar 2.0//EN
METHOD:PUBLISH
X-PUBLISHED-TTL:P3D
REFRESH-INTERVAL:P3D
CALSCALE:GREGORIAN
BEGIN:VEVENT
DTSTART:20150509T180000Z
DTEND:20150509T210000Z
X-MICROSOFT-CDO-ALLDAYEVENT:FALSE
SUMMARY:Vino and Vibes at Hightower Creek Vineyards
DESCRIPTION:Our Vino and Vibes series features the talented Kurt Johnston this week! Kurt is former member of Bon Jovi and is incredibly talented and fun to listen to! We are open from 12-6pm\, Music is from 2-5pm. Admission is $10.00 and includes a glass of wine or wine tasting. Bring a picnic lunch to enjoy with any of our wines. We also have cheese samplers available for purchase. Children are welcome and leashed pets are permitted outside. You wont want to miss this performance! Come enjoy a fun afternoon with us on our beautiful covered deck!
X-ALT-DESC;FMTTYPE=text/html:Our Vino and Vibes series features the talented Kurt Johnston this week! Kurt is former member of Bon Jovi and is incredibly talented and fun to listen to! We are open from 12-6pm\, Music is from 2-5pm. Admission is $10.00 and includes a glass of wine or wine tasting. Bring a picnic lunch to enjoy with any of our wines. We also have cheese samplers available for purchase. Children are welcome and leashed pets are permitted outside. You wont want to miss this performance! Come enjoy a fun afternoon with us on our beautiful covered deck!
LOCATION:7150 Canaan Drive Hiawassee\, GA 30546
UID:e.256.40002
SEQUENCE:3
DTSTAMP:20260423T182706Z
URL:https://members.visitblairsvillega.com/events/details/vino-and-vibes-at-hightower-creek-vineyards-05-09-2015-40002
END:VEVENT

END:VCALENDAR
