BEGIN:VCALENDAR
VERSION:2.0
PRODID:-//ChamberMaster//Event Calendar 2.0//EN
METHOD:PUBLISH
X-PUBLISHED-TTL:P3D
REFRESH-INTERVAL:P3D
CALSCALE:GREGORIAN
BEGIN:VEVENT
DTSTART:20150523T180000Z
DTEND:20150523T210000Z
X-MICROSOFT-CDO-ALLDAYEVENT:FALSE
SUMMARY:Vino and Vibes at Hightower Creek Vineyards
DESCRIPTION:Our weekly Vino and Vibes series is featuring the incredibly talented duo Raven and Red! Raven and Red feature bluegrass\, country and soft rock tunes and are so much fun to listen to! You wont want to miss this performance! Admission is $10.00 and includes a glass of wine or wine tasting. Bring and picnic lunch to enjoy with any of our wines. We also have cheese samplers available for purchase. Children are welcome and leashed pets are permitted outside. Come enjoy this great show on our beautiful covered deck!
X-ALT-DESC;FMTTYPE=text/html:Our weekly Vino and Vibes series is featuring the incredibly talented duo Raven and Red! Raven and Red feature bluegrass\, country and soft rock tunes and are so much fun to listen to! You wont want to miss this performance! Admission is $10.00 and includes a glass of wine or wine tasting. Bring and picnic lunch to enjoy with any of our wines. We also have cheese samplers available for purchase. Children are welcome and leashed pets are permitted outside. Come enjoy this great show on our beautiful covered deck!&nbsp\;
LOCATION:7150 Canaan Drive Hiawassee\, GA 30546
UID:e.256.40004
SEQUENCE:3
DTSTAMP:20260423T182706Z
URL:https://members.visitblairsvillega.com/events/details/vino-and-vibes-at-hightower-creek-vineyards-05-23-2015-40004
END:VEVENT

END:VCALENDAR
