BEGIN:VCALENDAR
VERSION:2.0
PRODID:-//ChamberMaster//Event Calendar 2.0//EN
METHOD:PUBLISH
X-PUBLISHED-TTL:P3D
REFRESH-INTERVAL:P3D
CALSCALE:GREGORIAN
BEGIN:VEVENT
DTSTART:20140531T180000Z
DTEND:20140531T210000Z
X-MICROSOFT-CDO-ALLDAYEVENT:FALSE
SUMMARY:"Vino and Vibes" at Hightower Creek Vineyards
DESCRIPTION:Join us for "Vino and Vibes" on Saturday 5/31/2014! We will be having Steven Phillips and Midnight Express performing their rockin' country style music\, along with some original country tunes! This is also our two year anniversary celebration! We will be having drawings for great prizes\, giveaways\, and light snacks! Admission is $10.00 and includes your first glass of wine or wine "lushie." We are open from 12-6pm and the music is from 2-5pm (weather permitting)  Bring a picnic lunch to enjoy with any of our wines or try one our delicious artisanal cheese samplers. We are also now selling Wine-infused Ice Cream\, so be sure to ask about this delicious new treat! Dogs on leashes are allowed outside. We look forward to seeing everyone!
X-ALT-DESC;FMTTYPE=text/html:Join us for &quot\;Vino and Vibes&quot\; on Saturday 5/31/2014! We will be having Steven Phillips and Midnight Express performing their rockin&#39\; country style music\, along with some original country tunes! This is also our two year anniversary celebration! We will be having drawings for great prizes\, giveaways\, and light snacks! Admission is $10.00 and includes your first glass of wine or wine &quot\;lushie.&quot\; We are open from 12-6pm and the music is from 2-5pm (weather permitting) &nbsp\;Bring a picnic lunch to enjoy with any of our wines or try one our delicious artisanal cheese samplers. We are also now selling Wine-infused Ice Cream\, so be sure to ask about this delicious new treat! Dogs on leashes are allowed outside. We look forward to seeing everyone!
LOCATION:7150 Canaan Drive Hiawassee\, GA 30546
UID:e.256.24299
SEQUENCE:3
DTSTAMP:20260424T122602Z
URL:https://members.visitblairsvillega.com/events/details/vino-and-vibes-at-hightower-creek-vineyards-05-31-2014-24299
END:VEVENT

END:VCALENDAR
