BEGIN:VCALENDAR
VERSION:2.0
PRODID:-//ChamberMaster//Event Calendar 2.0//EN
METHOD:PUBLISH
X-PUBLISHED-TTL:P3D
REFRESH-INTERVAL:P3D
CALSCALE:GREGORIAN
BEGIN:VEVENT
DTSTART:20150711T180000Z
DTEND:20150711T210000Z
X-MICROSOFT-CDO-ALLDAYEVENT:FALSE
SUMMARY:Vino and Vibes at Hightower Creek Vineyards
DESCRIPTION:We welcome back Kurt Johnston this week for our Vino and Vibes series on Saturday\, July 11th\, 2015 from 2-5 pm! Kurt is a talented performer who used to tour with Bon Jovi and brings a wide range of tunes for your enjoyment! \n\n\nMusic is from 2-5pm. We are open from 12-6 pm. \n\nAdmission is $10.00 and includes a glass of wine or wine Lushie! Bring a picnic to enjoy with any of our wines or try one of our cheese samplers. Children are welcome. Leashed pets are permitted outside.
X-ALT-DESC;FMTTYPE=text/html:<div>We welcome back Kurt Johnston this week for our Vino and Vibes series&nbsp\;on Saturday\, July 11th\, 2015 from 2-5 pm! Kurt is a talented performer who used to tour with Bon Jovi and brings a wide range of tunes for your enjoyment!&nbsp\;</div>\n\n<div>\n<div>Music is&nbsp\;from 2-5pm. We are open&nbsp\;from 12-6 pm.&nbsp\;</div>\n\n<div>Admission is $10.00 and includes a glass of wine or wine Lushie! Bring a picnic to enjoy with any of our wines or try one of our cheese samplers. Children are welcome. Leashed pets are permitted outside.</div>\n</div>\n
LOCATION:7150 Canaan Drive Hiawassee\, GA 30546
UID:e.256.38113
SEQUENCE:3
DTSTAMP:20260423T151555Z
URL:https://members.visitblairsvillega.com/events/details/vino-and-vibes-at-hightower-creek-vineyards-07-11-2015-38113
END:VEVENT

END:VCALENDAR
