BEGIN:VCALENDAR
VERSION:2.0
PRODID:-//ChamberMaster//Event Calendar 2.0//EN
METHOD:PUBLISH
X-PUBLISHED-TTL:P3D
REFRESH-INTERVAL:P3D
CALSCALE:GREGORIAN
BEGIN:VEVENT
DTSTART:20150718T180000Z
DTEND:20150718T210000Z
X-MICROSOFT-CDO-ALLDAYEVENT:FALSE
SUMMARY:Vino and Vibes at Hightower Creek Vineyards
DESCRIPTION:Join us on Saturday\, July 18\, 2015 as we welcome back Raven and Red for our Vino and Vibes series. These talented\, rising stars are one of our favorites and we are sure you will love their acoustic mix of bluegrass and country! \n\n\nMusic is from 2-5pm. We are open from 12-6 pm. \n\nAdmission is $10.00 and includes a glass of wine or wine Lushie! Bring a picnic to enjoy with any of our wines or try one of our cheese samplers. Children are welcome. Leashed pets are permitted outside.
X-ALT-DESC;FMTTYPE=text/html:<div><span style="background-color: rgba(255\, 255\, 255\, 0)\;">Join us&nbsp\;<a href="x-apple-data-detectors://40">on Saturday\, July 18\, 2015</a>&nbsp\;as we welcome back Raven and Red for our Vino and Vibes series. These talented\, rising stars are one of our favorites and we are sure you will love their acoustic mix of bluegrass and country!&nbsp\;</span>\n\n<div>\n<div><span style="background-color: rgba(255\, 255\, 255\, 0)\;">Music is&nbsp\;<a href="x-apple-data-detectors://33">from 2-5pm</a>. We are open&nbsp\;<a href="x-apple-data-detectors://34">from 12-6 pm</a>.&nbsp\;</span></div>\n\n<div><span style="background-color: rgba(255\, 255\, 255\, 0)\;">Admission is $10.00 and includes a glass of wine or wine Lushie! Bring a picnic to enjoy with any of our wines or try one of our cheese samplers. Children are welcome. Leashed pets are permitted outside.&nbsp\;</span></div>\n</div>\n\n<div>&nbsp\;</div>\n</div>\n
LOCATION:7150 Canaan Drive Hiawassee\, GA 30546
UID:e.256.41259
SEQUENCE:3
DTSTAMP:20260423T151608Z
URL:https://members.visitblairsvillega.com/events/details/vino-and-vibes-at-hightower-creek-vineyards-07-18-2015-41259
END:VEVENT

END:VCALENDAR
