BEGIN:VCALENDAR
VERSION:2.0
PRODID:-//ChamberMaster//Event Calendar 2.0//EN
METHOD:PUBLISH
X-PUBLISHED-TTL:P3D
REFRESH-INTERVAL:P3D
CALSCALE:GREGORIAN
BEGIN:VEVENT
DTSTART:20150725T180000Z
DTEND:20150725T210000Z
X-MICROSOFT-CDO-ALLDAYEVENT:FALSE
SUMMARY:Vino and Vibes at Hightower Creek Vineyards
DESCRIPTION:This Saturday July 25th\, 2015 we welcome Acoustics Anonymous for our Vino and Vibes Series! This is a fun and very talented group of musicians and we are very excited to have them! Music is from 2-5pm. We are open from 12-6 pm. Admission is $10.00 and includes a glass of wine or wine Lushie! Bring a picnic to enjoy with any of our wines or try one of our cheese samplers. Children are welcome. Leashed pets are permitted outside.
X-ALT-DESC;FMTTYPE=text/html:This Saturday July 25th\, 2015&nbsp\;we welcome Acoustics Anonymous for our Vino and Vibes Series! This is a fun and very talented group of musicians and we are very excited to have them!&nbsp\;Music is&nbsp\;from 2-5pm. We are open&nbsp\;from 12-6 pm.&nbsp\;Admission is $10.00 and includes a glass of wine or wine Lushie! Bring a picnic to enjoy with any of our wines or try one of our cheese samplers. Children are welcome. Leashed pets are permitted outside.
LOCATION:7150 Canaan Drive Hiawassee\, GA 30546
UID:e.256.41285
SEQUENCE:3
DTSTAMP:20260423T151552Z
URL:https://members.visitblairsvillega.com/events/details/vino-and-vibes-at-hightower-creek-vineyards-07-25-2015-41285
END:VEVENT

END:VCALENDAR
