BEGIN:VCALENDAR
VERSION:2.0
PRODID:-//ChamberMaster//Event Calendar 2.0//EN
METHOD:PUBLISH
X-PUBLISHED-TTL:P3D
REFRESH-INTERVAL:P3D
CALSCALE:GREGORIAN
BEGIN:VEVENT
DTSTART:20150801T160000Z
DTEND:20150801T210000Z
X-MICROSOFT-CDO-ALLDAYEVENT:FALSE
SUMMARY:Vino and Vibes at Hightower Creek Vineyards
DESCRIPTION:This Saturday August 1st\, 2015 come out and join us in welcoming back Hope Griffin as our performer for Vino and Vibes! Hope is a talented young lady who's sounds you are sure to love! Everyone had a wonderful time the last time we had her out to perform! \n\n\nMusic is from 2-5pm. We are open from 12-6 pm. \n\n \n\nAdmission is $10.00 and includes a glass of wine or wine Lushie! Bring a picnic to enjoy with any of our wines or try one of our cheese samplers. Children are welcome. Leashed pets are permitted outside.
X-ALT-DESC;FMTTYPE=text/html:<div><a href="x-apple-data-detectors://54">This Saturday August 1st\, 2015</a>&nbsp\;come out and join us in welcoming back Hope Griffin as our performer for Vino and Vibes! Hope is a talented young lady who&#39\;s sounds you are sure to love! Everyone had a wonderful time the last time we had her out to perform!&nbsp\;</div>\n\n<div>\n<div><span style="background-color:rgba(255\, 255\, 255\, 0)">Music is&nbsp\;<a href="x-apple-data-detectors://33">from 2-5pm</a>. We are open&nbsp\;<a href="x-apple-data-detectors://34">from 12-6 pm</a>.&nbsp\;</span></div>\n\n<p>&nbsp\;</p>\n\n<div><span style="background-color:rgba(255\, 255\, 255\, 0)">Admission is $10.00 and includes a glass of wine or wine Lushie! Bring a picnic to enjoy with any of our wines or try one of our cheese samplers. Children are welcome. Leashed pets are permitted outside.</span></div>\n</div>\n
LOCATION:7150 Canaan Drive Hiawassee\, GA 30546
UID:e.256.41322
SEQUENCE:3
DTSTAMP:20260423T134358Z
URL:https://members.visitblairsvillega.com/events/details/vino-and-vibes-at-hightower-creek-vineyards-08-01-2015-41322
END:VEVENT

END:VCALENDAR
