BEGIN:VCALENDAR
VERSION:2.0
PRODID:-//ChamberMaster//Event Calendar 2.0//EN
METHOD:PUBLISH
X-PUBLISHED-TTL:P3D
REFRESH-INTERVAL:P3D
CALSCALE:GREGORIAN
BEGIN:VEVENT
DTSTART:20150815T180000Z
DTEND:20150815T210000Z
X-MICROSOFT-CDO-ALLDAYEVENT:FALSE
SUMMARY:Vino and Vibes at Hightower Creek Vineyards
DESCRIPTION:We are welcoming back the Wilhelm Brothers this Saturday 8/15/15 for our Vino and Vibes Series. They are from Asheville\, NC and play a wide range of music to entertain you! Music is from 2-5pm. We are open from 12-6 pm. \n\nAdmission is $10.00 and includes a glass of wine or wine Lushie! Bring a picnic to enjoy with any of our wines or try one of our cheese samplers. Children are welcome. Leashed pets are permitted outside.
X-ALT-DESC;FMTTYPE=text/html:<div>We are welcoming back the Wilhelm Brothers&nbsp\;this Saturday 8/15/15&nbsp\;for our Vino and Vibes Series. They are from Asheville\, NC and play a wide range of music to entertain you! Music is&nbsp\;from 2-5pm. We are open&nbsp\;from 12-6 pm.&nbsp\;</div>\n\n<div>Admission is $10.00 and includes a glass of wine or wine Lushie! Bring a picnic to enjoy with any of our wines or try one of our cheese samplers. Children are welcome. Leashed pets are permitted outside.&nbsp\;</div>\n
LOCATION:7150 Canaan Drive Hiawassee\, GA 30546
UID:e.256.41383
SEQUENCE:3
DTSTAMP:20260423T134317Z
URL:https://members.visitblairsvillega.com/events/details/vino-and-vibes-at-hightower-creek-vineyards-08-15-2015-41383
END:VEVENT

END:VCALENDAR
