BEGIN:VCALENDAR
VERSION:2.0
PRODID:-//ChamberMaster//Event Calendar 2.0//EN
METHOD:PUBLISH
X-PUBLISHED-TTL:P3D
REFRESH-INTERVAL:P3D
CALSCALE:GREGORIAN
BEGIN:VEVENT
DTSTART:20150905T180000Z
DTEND:20150905T210000Z
X-MICROSOFT-CDO-ALLDAYEVENT:FALSE
SUMMARY:Vino and Vibes at Hightower Creek Vineyards
DESCRIPTION:One of our favorite bands is coming back to Hightower Creek. Join us on Saturday\, September 5 for Raven & Red!\n\nRaven and Red is an award-winning bluegrass\, country\, and acoustic music band formed in 2009 by lead singer/guitarist Mitchell Lane and fiddler/singer Brittany Jones.  Both graduates of the School of Music at the University of North Carolina School of the Arts\, Mitchell and Brittany are well versed in classical repertoire and enjoy combining these techniques in their recordings and live performances.  Their individual musical accomplishments provide the inspiration to creatively arrange outstanding lead and harmony vocals with lyrical instrumental melodies.\n\nMusic from 2-5pm. $10.00 admission includes a glass of wine. Outside food\, children\, and leashed dogs are permitted\, so bring a picnic and enjoy the music!
X-ALT-DESC;FMTTYPE=text/html:<p><span style="background-color:rgba(255\, 255\, 255\, 0)">One of our favorite bands is coming back to Hightower Creek. Join us&nbsp\;on Saturday\, September 5 for Raven &amp\; Red!</span></p>\n\n<p><span style="background-color:rgba(255\, 255\, 255\, 0)">Raven and Red is an award-winning bluegrass\, country\, and acoustic music band formed in&nbsp\;2009 by lead singer/guitarist Mitchell Lane&nbsp\;and fiddler/singer Brittany Jones. &nbsp\;Both graduates of the School of Music at the University of North Carolina School of the Arts\, Mitchell and Brittany are well versed in classical repertoire and enjoy combining these techniques in their recordings and live performances. &nbsp\;Their individual musical accomplishments provide the inspiration to creatively arrange outstanding lead and harmony vocals with lyrical instrumental melodies.</span></p>\n\n<p><span style="background-color:rgba(255\, 255\, 255\, 0)">Music&nbsp\;from 2-5pm. $10.00 admission includes a glass of wine. Outside food\, children\, and leashed dogs are permitted\, so bring a picnic and enjoy the music!</span></p>\n
LOCATION:7150 Canaan Drive Hiawassee\, GA 30546
UID:e.256.43936
SEQUENCE:3
DTSTAMP:20260423T122056Z
URL:https://members.visitblairsvillega.com/events/details/vino-and-vibes-at-hightower-creek-vineyards-09-05-2015-43936
END:VEVENT

END:VCALENDAR
