BEGIN:VCALENDAR
VERSION:2.0
PRODID:-//ChamberMaster//Event Calendar 2.0//EN
METHOD:PUBLISH
X-PUBLISHED-TTL:P3D
REFRESH-INTERVAL:P3D
CALSCALE:GREGORIAN
BEGIN:VEVENT
DTSTART:20140920T180000Z
DTEND:20140920T210000Z
X-MICROSOFT-CDO-ALLDAYEVENT:FALSE
SUMMARY:"Vino and Vibes" at Hightower Creek Vineyards
DESCRIPTION:September 20th:  He's back!!!! Yep\, Steven Phillips and the Midnight Express are back for another fun-filled afternoon of good ole country music! We are so proud to have our own local favorites here from 2-5pm. Come join us! Admission is $10.00 and includes a glass of wine or a "Lushie". We also have hard cider\, wine-infused ice cream\, and delicious artisan cheeses available. You may bring a picnic to enjoy with our wines so come spend the afternoon with us!
X-ALT-DESC;FMTTYPE=text/html:September 20th: &nbsp\;He&rsquo\;s back!!!! Yep\, Steven Phillips and the Midnight Express are back for another fun-filled afternoon of good ole country music! We are so proud to have our own local favorites here from 2-5pm. Come join us! Admission is $10.00 and includes a glass of wine or a &ldquo\;Lushie&rdquo\;.&nbsp\;We also have hard cider\, wine-infused ice cream\, and delicious artisan cheeses available. You may bring a picnic to enjoy with our wines so come spend the afternoon with us!
LOCATION:7150 Canaan Drive Hiawassee\, GA 30546
UID:e.256.27317
SEQUENCE:3
DTSTAMP:20260424T074059Z
URL:https://members.visitblairsvillega.com/events/details/vino-and-vibes-at-hightower-creek-vineyards-09-20-2014-27317
END:VEVENT

END:VCALENDAR
