BEGIN:VCALENDAR
VERSION:2.0
PRODID:-//ChamberMaster//Event Calendar 2.0//EN
METHOD:PUBLISH
X-PUBLISHED-TTL:P3D
REFRESH-INTERVAL:P3D
CALSCALE:GREGORIAN
BEGIN:VEVENT
DTSTART:20140927T180000Z
DTEND:20140927T210000Z
X-MICROSOFT-CDO-ALLDAYEVENT:FALSE
SUMMARY:"Vino and Vibes" at Hightower Creek Vineyards
DESCRIPTION:September 27th: 2:00-5:00pm. Kurt Johnston is our featured performer for our Vino and Vibes this week! Come enjoy Kurt\, a former Bon Jovi guitarist and singer\, who will be sure to entertain you with his phenomenal guitar and singing abilities! $10.00 admission includes a glass of wine or a "Lushie". Artisan cheeses\, hard cider\, and wine infused ice cream are also available for purchase.
X-ALT-DESC;FMTTYPE=text/html:September 27th: 2:00-5:00pm. Kurt Johnston is our featured performer for our Vino and Vibes this week! Come enjoy Kurt\, a former Bon Jovi guitarist and singer\, who will be sure to entertain you with his phenomenal guitar and singing abilities! $10.00 admission includes a glass of wine or a &ldquo\;Lushie&rdquo\;. Artisan cheeses\, hard cider\, and wine infused ice cream are also available for purchase.
LOCATION:7150 Canaan Drive Hiawassee\, GA 30546
UID:e.256.27319
SEQUENCE:3
DTSTAMP:20260424T074136Z
URL:https://members.visitblairsvillega.com/events/details/vino-and-vibes-at-hightower-creek-vineyards-09-27-2014-27319
END:VEVENT

END:VCALENDAR
