BEGIN:VCALENDAR
VERSION:2.0
PRODID:-//ChamberMaster//Event Calendar 2.0//EN
METHOD:PUBLISH
X-PUBLISHED-TTL:P3D
REFRESH-INTERVAL:P3D
CALSCALE:GREGORIAN
BEGIN:VEVENT
DTSTART:20141004T180000Z
DTEND:20141004T210000Z
X-MICROSOFT-CDO-ALLDAYEVENT:FALSE
SUMMARY:"Vino and Vibes" at Hightower Creek Vineyards
DESCRIPTION:Saturday\, October 4th\, 2014- join us for Vino and Vibes with Paul (Dr. Paul) Constantine as our featured performer! Paul is a solo\, acoustic musician/singer with a unique and powerful voice performing Country/Americana/Soul sounds. Music is from 2-5pm. Open 12-6pm. Admission is $10.00 and includes a glass of wine or "lushie."  Bring a picnic lunch to enjoy with any of our wines. We have artisanal cheese samplers available for purchase\, as well as hard cider and wine ice cream! So come out and enjoy a great afternoon with us!
X-ALT-DESC;FMTTYPE=text/html:Saturday\, October 4th\, 2014- join us for Vino and Vibes with Paul (Dr. Paul) Constantine as our featured performer! Paul is a solo\, acoustic musician/singer with a unique and powerful voice performing Country/Americana/Soul sounds. Music is from 2-5pm. Open 12-6pm. Admission is $10.00 and includes a glass of wine or &quot\;lushie.&quot\; &nbsp\;Bring a picnic lunch to enjoy with any of our wines. We have artisanal cheese samplers available for purchase\, as well as hard cider and wine ice cream! So come out and enjoy a great afternoon with us!&nbsp\;
LOCATION:7150 Canaan Drive Hiawassee\, GA 30546
UID:e.256.27477
SEQUENCE:3
DTSTAMP:20260424T045624Z
URL:https://members.visitblairsvillega.com/events/details/vino-and-vibes-at-hightower-creek-vineyards-10-04-2014-27477
END:VEVENT

END:VCALENDAR
