BEGIN:VCALENDAR
VERSION:2.0
PRODID:-//ChamberMaster//Event Calendar 2.0//EN
METHOD:PUBLISH
X-PUBLISHED-TTL:P3D
REFRESH-INTERVAL:P3D
CALSCALE:GREGORIAN
BEGIN:VEVENT
DTSTART:20141011T180000Z
DTEND:20141011T210000Z
X-MICROSOFT-CDO-ALLDAYEVENT:FALSE
SUMMARY:"Vino and Vibes" at Hightower Creek Vineyards
DESCRIPTION:Saturday\, October 11th\, 2014- join us for our Vino and Vibes series with Blind Cider as our featured performers! Blind Cider has been described as heartfelt acoustic singer/songwriters with a positive message and a diverse sound! We are very excited to have them! Music is from 2-5pm. Open 12-6pm. Admission is $10.00 and includes a glass of wine or "lushie."  Bring a picnic lunch to enjoy with any of our wines. We have artisanal cheese samplers available for purchase\, as well as hard cider and wine ice cream! So come out and enjoy a great afternoon with us!
X-ALT-DESC;FMTTYPE=text/html:Saturday\, October 11th\, 2014- join us for our Vino and Vibes series with Blind Cider as our featured performers! Blind Cider has been described as heartfelt acoustic singer/songwriters with a positive message and a diverse sound! We are very excited to have them! Music is from 2-5pm. Open 12-6pm. Admission is $10.00 and includes a glass of wine or &quot\;lushie.&quot\; &nbsp\;Bring a picnic lunch to enjoy with any of our wines. We have artisanal cheese samplers available for purchase\, as well as hard cider and wine ice cream! So come out and enjoy a great afternoon with us!
LOCATION:7150 Canaan Drive Hiawassee\, GA 30546
UID:e.256.27529
SEQUENCE:3
DTSTAMP:20260424T045639Z
URL:https://members.visitblairsvillega.com/events/details/vino-and-vibes-at-hightower-creek-vineyards-10-11-2014-27529
END:VEVENT

END:VCALENDAR
