BEGIN:VCALENDAR
VERSION:2.0
PRODID:-//ChamberMaster//Event Calendar 2.0//EN
METHOD:PUBLISH
X-PUBLISHED-TTL:P3D
REFRESH-INTERVAL:P3D
CALSCALE:GREGORIAN
BEGIN:VEVENT
DTSTART:20141018T180000Z
DTEND:20141018T210000Z
X-MICROSOFT-CDO-ALLDAYEVENT:FALSE
SUMMARY:Vino and Vibes at Hightower Creek Vineyards/ Cabernet Franc release party!
DESCRIPTION:October 18\, 2014: Monica Spears and Derek Worth are back to close out our Vino and Vibes series for the year and we are going to celebrate with the release of our newest wine\, Cabernet Franc! Come have a taste! It's incredible and we only have 30 cases available!\n\nMusic is from 2-5pm. Open 12-6pm. Admission is $10.00 and includes a glass of wine or "lushie."  Bring a picnic lunch to enjoy with any of our wines. We have artisanal cheese samplers available for purchase\, as well as hard cider and wine ice cream! So come out and enjoy a great afternoon with us!
X-ALT-DESC;FMTTYPE=text/html:<div>October 18\, 2014: Monica Spears and Derek Worth are back to close out our Vino and Vibes series for the year and we are going to celebrate with the release of our newest wine\, Cabernet Franc! Come have a taste! It&rsquo\;s incredible and we only have 30 cases available!</div>\n\n<div>Music is from 2-5pm. Open 12-6pm. Admission is $10.00 and includes a glass of wine or &quot\;lushie.&quot\; &nbsp\;Bring a picnic lunch to enjoy with any of our wines. We have artisanal cheese samplers available for purchase\, as well as hard cider and wine ice cream! So come out and enjoy a great afternoon with us!</div>\n
LOCATION:7150 Canaan Drive Hiawasssee\, GA 30546
UID:e.256.27596
SEQUENCE:3
DTSTAMP:20260424T062847Z
URL:https://members.visitblairsvillega.com/events/details/vino-and-vibes-at-hightower-creek-vineyards-cabernet-franc-release-party-10-18-2014-27596
END:VEVENT

END:VCALENDAR
