BEGIN:VCALENDAR
VERSION:2.0
PRODID:-//ChamberMaster//Event Calendar 2.0//EN
METHOD:PUBLISH
X-PUBLISHED-TTL:P3D
REFRESH-INTERVAL:P3D
CALSCALE:GREGORIAN
BEGIN:VEVENT
DTSTART:20161029T180000Z
DTEND:20161029T210000Z
X-MICROSOFT-CDO-ALLDAYEVENT:FALSE
SUMMARY:Vino and Vibes at Hightower Creek Vineyards ft The Clubmen
DESCRIPTION:Come enjoy the final Vino & Vibes of the season as we celebrate autumn's colors with The Clubmen! Part of Blairsville\, GA's extremely talented Modern Vinyl band\, The Clubmen play a diverse range of genres to appeal to musical tastes both young and old!\n\nAdmission is $10 and includes a tasting or glass of wine. Children are welcome! Leashed dogs are welcome on the deck. Feel free to bring a picnic\, or purchase an artisan cheese sampler!
X-ALT-DESC;FMTTYPE=text/html:<p>Come enjoy the final Vino &amp\; Vibes of the season as we celebrate autumn&rsquo\;s colors with The Clubmen!&nbsp\;Part of Blairsville\, GA&rsquo\;s extremely talented&nbsp\;<em>Modern Vinyl&nbsp\;</em>band\, The Clubmen play a diverse range of genres to appeal to musical tastes both young and old!</p>\n\n<p>Admission is $10 and includes a tasting or glass of wine. Children are welcome! Leashed dogs are welcome on the deck. Feel free to bring a picnic\, or purchase an artisan cheese sampler!</p>\n
LOCATION:7150 Canaan Drive Hiawassee\, GA 30546
UID:e.256.59297
SEQUENCE:3
DTSTAMP:20260420T145340Z
URL:https://members.visitblairsvillega.com/events/details/vino-and-vibes-at-hightower-creek-vineyards-ft-the-clubmen-59297
END:VEVENT

END:VCALENDAR
