BEGIN:VCALENDAR
VERSION:2.0
PRODID:-//ChamberMaster//Event Calendar 2.0//EN
METHOD:PUBLISH
X-PUBLISHED-TTL:P3D
REFRESH-INTERVAL:P3D
CALSCALE:GREGORIAN
BEGIN:VEVENT
DTSTART:20160507T160000Z
DTEND:20160507T210000Z
X-MICROSOFT-CDO-ALLDAYEVENT:FALSE
SUMMARY:Vino and Vibes at Hightower Creek Vineyards with Mike Brookshire
DESCRIPTION:Mike is not only a wonderfully skilled musician\, but an all-around entertainer with great stories and jokes peppering his mix of classic and contemporary country tunes. Between gigs and sessions\, he also finds time to play at some of the industry's biggest events and galas\, such as his yearly appearance on stage with such artist as Kenny Chesney\, Carrie Underwood\, Taylor Swift\, Lady Antebellum\, Sugarland\, Montgomery Gentry\, Brooks and Dunn\, Reba McEntire and many more at the Academy of Country Music Awards After Show Jam In Las Vegas.\n\nMike is and has been the band director since 2002 for the After Show Jam at the Academy of Country Music and he still works closely with the Nashville industry. In 2008 the Atlanta Society of Entertainers awarded him the Mama Wynette Club Entertainer of the Year. In 2007\, Mike was inducted into the "Hall of Fame" by the Atlanta Country Music Hall Of Fame\, the "Visionary Award" by the Georgia Music Industry Music Association\, and awarded "Song Writer of The Year" by The Atlanta Society of Entertainers. Don't miss this performance!\n\nAdmission is $10 and includes a tasting or glass of wine. Children are welcome! Leashed dogs are welcome on the deck. Feel free to bring a picnic\, or purchase an artisan cheese sampler!
X-ALT-DESC;FMTTYPE=text/html:<p>Mike is not only a wonderfully skilled musician\, but an all-around entertainer with great stories and jokes peppering his mix of classic and contemporary country tunes. Between gigs and sessions\, he also finds time to play at some of the industry&rsquo\;s biggest events and galas\, such as his yearly appearance on stage with such artist as Kenny Chesney\, Carrie Underwood\, Taylor Swift\, Lady Antebellum\, Sugarland\, Montgomery Gentry\, Brooks and Dunn\, Reba McEntire and many more at the Academy of Country Music Awards After Show Jam In Las Vegas.</p>\n\n<p>Mike is and has been the band director since 2002 for the After Show Jam at the Academy of Country Music and he still works closely with the Nashville industry. In 2008 the Atlanta Society of Entertainers awarded him the Mama Wynette Club Entertainer of the Year. In 2007\, Mike was inducted into the &ldquo\;Hall of Fame&rdquo\; by the Atlanta Country Music Hall Of Fame\, the &ldquo\;Visionary Award&rdquo\; by the Georgia Music Industry Music Association\, and awarded &ldquo\;Song Writer of The Year&rdquo\; by The Atlanta Society of Entertainers. Don&rsquo\;t miss this performance!</p>\n\n<p>Admission is $10 and includes a tasting or glass of wine. Children are welcome! Leashed dogs are welcome on the deck. Feel free to bring a picnic\, or purchase an artisan cheese sampler!</p>\n
LOCATION:7150 Canaan Drive Hiawassee GA 30546
UID:e.256.51059
SEQUENCE:3
DTSTAMP:20260420T223419Z
URL:https://members.visitblairsvillega.com/events/details/vino-and-vibes-at-hightower-creek-vineyards-with-mike-brookshire-05-07-2016-51059
END:VEVENT

END:VCALENDAR
