BEGIN:VCALENDAR
VERSION:2.0
PRODID:-//ChamberMaster//Event Calendar 2.0//EN
METHOD:PUBLISH
X-PUBLISHED-TTL:P3D
REFRESH-INTERVAL:P3D
CALSCALE:GREGORIAN
BEGIN:VEVENT
DTSTART:20160514T180000Z
DTEND:20160514T210000Z
X-MICROSOFT-CDO-ALLDAYEVENT:FALSE
SUMMARY:Vino and Vibes at Hightower Creek Vineyards with Raven and Red
DESCRIPTION:One of our favorite bands is coming back to Hightower Creek. Join us on Saturday\, May 14 for Raven & Red!\n\nRaven and Red is an award-winning bluegrass\, country\, and acoustic music band formed in 2009 by lead singer/guitarist Mitchell Lane and fiddler/singer Brittany Jones.  Both graduates of the School of Music at the University of North Carolina School of the Arts\, Mitchell and Brittany are well versed in classical repertoire and enjoy combining these techniques in their recordings and live performances.  Their individual musical accomplishments provide the inspiration to creatively arrange outstanding lead and harmony vocals with lyrical instrumental melodies.\n\nAdmission is $10 and includes a tasting or glass of wine. Children are welcome! Leashed dogs are welcome on the deck. Feel free to bring a picnic\, or purchase an artisan cheese sampler!
X-ALT-DESC;FMTTYPE=text/html:<div>\n<p>One of our favorite bands is coming back to Hightower Creek. Join us on Saturday\, May 14&nbsp\;for Raven &amp\; Red!</p>\n\n<p>Raven and Red is an award-winning bluegrass\, country\, and acoustic music band formed in&nbsp\;2009 by lead singer/guitarist Mitchell Lane&nbsp\;and fiddler/singer Brittany Jones. &nbsp\;Both graduates of the School of Music at the University of North Carolina School of the Arts\, Mitchell and Brittany are well versed in classical repertoire and enjoy combining these techniques in their recordings and live performances. &nbsp\;Their individual musical accomplishments provide the inspiration to creatively arrange outstanding lead and harmony vocals with lyrical instrumental melodies.</p>\n\n<p>Admission is $10 and includes a tasting or glass of wine. Children are welcome! Leashed dogs are welcome on the deck. Feel free to bring a picnic\, or purchase an artisan cheese sampler!</p>\n\n<div>&nbsp\;</div>\n</div>\n
LOCATION:7150 Canaan Drive Hiawassee\, GA 30546
UID:e.256.51062
SEQUENCE:3
DTSTAMP:20260420T223456Z
URL:https://members.visitblairsvillega.com/events/details/vino-and-vibes-at-hightower-creek-vineyards-with-raven-and-red-05-14-2016-51062
END:VEVENT

END:VCALENDAR
