BEGIN:VCALENDAR
VERSION:2.0
PRODID:-//ChamberMaster//Event Calendar 2.0//EN
METHOD:PUBLISH
X-PUBLISHED-TTL:P3D
REFRESH-INTERVAL:P3D
CALSCALE:GREGORIAN
BEGIN:VEVENT
DTSTART:20160703T180000Z
DTEND:20160703T210000Z
X-MICROSOFT-CDO-ALLDAYEVENT:FALSE
SUMMARY:Vino and Vibes at Hightower Creek Vineyards with Red Fable
DESCRIPTION:Kick off Independence Day with a bang with a special Sunday edition of Vino & Vibes. We're excited to welcome Red Fable back to Hightower Creek for an afternoon of songs and stories. You'll love this group's mixture of humor\, music and more.\n\n\n\nAdmission is $10 and includes a glass of wine or tasting. Feel free to bring a picnic lunch or enjoy a cheese sampler from Udderly Cool Dairy! Children are welcome\, as are leashed pets (on the deck).
X-ALT-DESC;FMTTYPE=text/html:<div>Kick off&nbsp\;Independence Day&nbsp\;with a bang with a special Sunday edition of Vino &amp\; Vibes. We&rsquo\;re excited to welcome Red Fable back to Hightower Creek for an afternoon of songs and stories. You&rsquo\;ll love this group&rsquo\;s mixture of humor\, music and more.</div>\n\n<div>\n<div>\n<p>Admission is $10 and includes a glass of wine or tasting. Feel free to bring a picnic lunch or enjoy a cheese sampler from Udderly Cool Dairy! Children are welcome\, as are leashed pets (on the deck).</p>\n\n<div>&nbsp\;</div>\n</div>\n</div>\n
LOCATION:7150 Canaan Drive Hiawassee\, GA 30546
UID:e.256.53024
SEQUENCE:3
DTSTAMP:20260420T184601Z
URL:https://members.visitblairsvillega.com/events/details/vino-and-vibes-at-hightower-creek-vineyards-with-red-fable-07-03-2016-53024
END:VEVENT

END:VCALENDAR
