BEGIN:VCALENDAR
VERSION:2.0
PRODID:-//ChamberMaster//Event Calendar 2.0//EN
METHOD:PUBLISH
X-PUBLISHED-TTL:P3D
REFRESH-INTERVAL:P3D
CALSCALE:GREGORIAN
BEGIN:VEVENT
DTSTART:20150926T180000Z
DTEND:20150926T210000Z
X-MICROSOFT-CDO-ALLDAYEVENT:FALSE
SUMMARY:Vino and Vibes featuring Kaleb Garrett & Friends at Hightower Creek Vineyards
DESCRIPTION:Join us Saturday Sept 26th as we welcome back Kaleb Garrett and Friends performing for our Vino and Vibes series! Kaleb is an incredibly talented performer who brings a wide variety of tunes for your enjoyment! You won't want to miss this performance! \n\nMusic is from 2-5pm. We are open from 12-6 pm. \n\nAdmission is $10.00 and includes a glass of wine or wine Lushie! Bring a picnic to enjoy with any of our wines or try one of our cheese samplers. Children are welcome. Leashed pets are permitted outside. ?
X-ALT-DESC;FMTTYPE=text/html:Join us Saturday Sept 26th as we welcome back Kaleb Garrett and Friends performing for our Vino and Vibes series! Kaleb is an incredibly talented performer who brings a wide variety of tunes for your enjoyment! You won&#39\;t want to miss this performance!&nbsp\;<br />\nMusic is from 2-5pm. We are open from 12-6 pm.&nbsp\;<br />\nAdmission is $10.00 and includes a glass of wine or wine Lushie! Bring a picnic to enjoy with any of our wines or try one of our cheese samplers. Children are welcome. Leashed pets are permitted outside.&nbsp\;?
LOCATION:7150 Canaan Drive Hiawassee\, GA 30546
UID:e.256.44217
SEQUENCE:3
DTSTAMP:20260423T122558Z
URL:https://members.visitblairsvillega.com/events/details/vino-and-vibes-featuring-kaleb-garrett-friends-at-hightower-creek-vineyards-09-26-2015-44217
END:VEVENT

END:VCALENDAR
