BEGIN:VCALENDAR
VERSION:2.0
PRODID:-//ChamberMaster//Event Calendar 2.0//EN
METHOD:PUBLISH
X-PUBLISHED-TTL:P3D
REFRESH-INTERVAL:P3D
CALSCALE:GREGORIAN
BEGIN:VEVENT
DTSTART:20151010T180000Z
DTEND:20151010T210000Z
X-MICROSOFT-CDO-ALLDAYEVENT:FALSE
SUMMARY:Vino and Vibes featuring Mike Armstrong at Hightower Creek Vineyards
DESCRIPTION:Mike Armstrong will be performing for our Vino and Vibes series Saturday 10/10/2015! Mike plays a variety of tunes that you won't be able to help but sing along to! Come enjoy an afternoon of fun\, music and wine with us. \n\nAdmission is $10.00 and includes a glass of wine or wine Lushie! Bring a picnic to enjoy with any of our wines or try one of our cheese samplers. Children are welcome. Leashed pets are permitted outside.
X-ALT-DESC;FMTTYPE=text/html:Mike Armstrong will be performing for our Vino and Vibes series Saturday 10/10/2015! Mike plays a variety of tunes that you won&#39\;t be able to help but sing along to! Come enjoy an afternoon of fun\, music and wine with us.&nbsp\;<br />\nAdmission is $10.00 and includes a glass of wine or wine Lushie! Bring a picnic to enjoy with any of our wines or try one of our cheese samplers. Children are welcome. Leashed pets are permitted outside.
LOCATION:7150 Canaan Drive Hiawassee\, GA 30546
UID:e.256.44226
SEQUENCE:3
DTSTAMP:20260423T103912Z
URL:https://members.visitblairsvillega.com/events/details/vino-and-vibes-featuring-mike-armstrong-at-hightower-creek-vineyards-10-10-2015-44226
END:VEVENT

END:VCALENDAR
