BEGIN:VCALENDAR
VERSION:2.0
PRODID:-//ChamberMaster//Event Calendar 2.0//EN
METHOD:PUBLISH
X-PUBLISHED-TTL:P3D
REFRESH-INTERVAL:P3D
CALSCALE:GREGORIAN
BEGIN:VEVENT
DTSTART:20151024T160000Z
DTEND:20151024T210000Z
X-MICROSOFT-CDO-ALLDAYEVENT:FALSE
SUMMARY:Vino and Vibes featuring Mike Brookshire at Hightower Creek Vineyards
DESCRIPTION:Come join us on Saturday\, Oct 24th\, 2015 as we feature Mike Brookshire performing for Vino and Vibes! Mike is a fun and talented performer and brings a range of country\, southern rock and other fun tunes for your enjoyment! \n\nMusic is from 2-5pm. We are open from 12-6 pm. \n\nAdmission is $10.00 and includes a glass of wine or wine Lushie! Bring a picnic to enjoy with any of our wines or try one of our cheese samplers. Children are welcome. Leashed pets are permitted outside.
X-ALT-DESC;FMTTYPE=text/html:Come join us on Saturday\, Oct 24th\, 2015 as we feature Mike Brookshire performing for Vino and Vibes! Mike is a fun and talented performer and brings a range of country\, southern rock and other fun tunes for your enjoyment!&nbsp\;<br />\nMusic is from 2-5pm. We are open from 12-6 pm.&nbsp\;<br />\nAdmission is $10.00 and includes a glass of wine or wine Lushie! Bring a picnic to enjoy with any of our wines or try one of our cheese samplers. Children are welcome. Leashed pets are permitted outside.&nbsp\;
LOCATION:7150 Canaan Drive Hiawassee\, GA 30546
UID:e.256.44228
SEQUENCE:3
DTSTAMP:20260423T104003Z
URL:https://members.visitblairsvillega.com/events/details/vino-and-vibes-featuring-mike-brookshire-at-hightower-creek-vineyards-10-24-2015-44228
END:VEVENT

END:VCALENDAR
