BEGIN:VCALENDAR
VERSION:2.0
PRODID:-//ChamberMaster//Event Calendar 2.0//EN
METHOD:PUBLISH
X-PUBLISHED-TTL:P3D
REFRESH-INTERVAL:P3D
CALSCALE:GREGORIAN
BEGIN:VEVENT
DTSTART:20151017T180000Z
DTEND:20151017T210000Z
X-MICROSOFT-CDO-ALLDAYEVENT:FALSE
SUMMARY:Vino and Vibes featuring Monica Spears and Derek Worth at Hightower Creek Vineyards
DESCRIPTION:We welcome back Monica Spears and Derek Worth for our Vino and Vibes series on Saturday\, Oct 17th 2015 from 2-5 pm! Monica and Derek are a talented duo that bring a wide range of blues\, jazz and soft rock tunes for your enjoyment! \n\nMusic is from 2-5pm. We are open from 12-6 pm. \n\nAdmission is $10.00 and includes a glass of wine or wine Lushie! Bring a picnic to enjoy with any of our wines or try one of our cheese samplers. Children are welcome. Leashed pets are permitted outside.
X-ALT-DESC;FMTTYPE=text/html:We welcome back Monica Spears and Derek Worth for our Vino and Vibes series on Saturday\, Oct 17th 2015 from 2-5 pm! Monica and Derek are a talented duo that bring a wide range of blues\, jazz and soft rock tunes for your enjoyment!&nbsp\;<br />\nMusic is from 2-5pm. We are open from 12-6 pm.&nbsp\;<br />\nAdmission is $10.00 and includes a glass of wine or wine Lushie! Bring a picnic to enjoy with any of our wines or try one of our cheese samplers. Children are welcome. Leashed pets are permitted outside.&nbsp\;
LOCATION:7150 Canaan Drive Hiawassee\, GA 30546
UID:e.256.44227
SEQUENCE:3
DTSTAMP:20260423T104039Z
URL:https://members.visitblairsvillega.com/events/details/vino-and-vibes-featuring-monica-spears-and-derek-worth-at-hightower-creek-vineyards-10-17-2015-44227
END:VEVENT

END:VCALENDAR
