BEGIN:VCALENDAR
VERSION:2.0
PRODID:-//ChamberMaster//Event Calendar 2.0//EN
METHOD:PUBLISH
X-PUBLISHED-TTL:P3D
REFRESH-INTERVAL:P3D
CALSCALE:GREGORIAN
BEGIN:VEVENT
DTSTART:20160604T180000Z
DTEND:20160604T210000Z
X-MICROSOFT-CDO-ALLDAYEVENT:FALSE
SUMMARY:Vino and Vibes featuring Paul (Dr Paul) Constantine at Hightower Creek Vineyards
DESCRIPTION:Paul (Dr. Paul) Constantine is our featured performer for our Vino and Vibes series. Dr Paul is a talented performer with a unique\, booming voice! He plays a variety of tunes to sing along to! \n\nAdmission is $10.00 and includes a glass of wine or wine Lushie! Bring a picnic to enjoy with any of our wines or try one of our cheese samplers. Children are welcome. Leashed pets are permitted outside.
X-ALT-DESC;FMTTYPE=text/html:Paul (Dr. Paul) Constantine is our featured performer for our Vino and Vibes series. Dr Paul is a talented performer with a unique\, booming voice! He plays a variety of tunes to sing along to!&nbsp\;<br />\nAdmission is $10.00 and includes a glass of wine or wine Lushie! Bring a picnic to enjoy with any of our wines or try one of our cheese samplers. Children are welcome. Leashed pets are permitted outside.&nbsp\;
LOCATION:7150 Canaan Drive Hiawassee\, GA 30546
UID:e.256.51271
SEQUENCE:3
DTSTAMP:20260420T204354Z
URL:https://members.visitblairsvillega.com/events/details/vino-and-vibes-featuring-paul-dr-paul-constantine-at-hightower-creek-vineyards-06-04-2016-51271
END:VEVENT

END:VCALENDAR
