BEGIN:VCALENDAR
VERSION:2.0
PRODID:-//ChamberMaster//Event Calendar 2.0//EN
METHOD:PUBLISH
X-PUBLISHED-TTL:P3D
REFRESH-INTERVAL:P3D
CALSCALE:GREGORIAN
BEGIN:VEVENT
DTSTART:20170325T180000Z
DTEND:20170325T210000Z
X-MICROSOFT-CDO-ALLDAYEVENT:FALSE
SUMMARY:Vino and Vibes featuting Rob Alwine at Hightower Creek Vineyards
DESCRIPTION:Live music featuring Rob Alwine from 2-5pm. $10.00/person includes a glass of wine or tasting or $4.00 per person with the purchase of bottle of wine. Bring a picnic lunch! Cheese and snacks available. Children and leashed dogs welcome.
X-ALT-DESC;FMTTYPE=text/html:<span style="color:rgb(112\, 112\, 112)\; font-family:open sans\; font-size:14px">Live music featuring Rob Alwine from 2-5pm. $10.00/person includes a glass of wine or tasting or $4.00 per person with the purchase of bottle of wine. Bring a picnic lunch!&nbsp\;Cheese and snacks available. Children and leashed dogs welcome.</span>
LOCATION:7150 Canaan Drive Hiawassee\, GA 30546
UID:e.256.69068
SEQUENCE:3
DTSTAMP:20260420T043311Z
URL:https://members.visitblairsvillega.com/events/details/vino-and-vibes-featuting-rob-alwine-at-hightower-creek-vineyards-69068
END:VEVENT

END:VCALENDAR
