BEGIN:VCALENDAR
VERSION:2.0
PRODID:-//ChamberMaster//Event Calendar 2.0//EN
METHOD:PUBLISH
X-PUBLISHED-TTL:P3D
REFRESH-INTERVAL:P3D
CALSCALE:GREGORIAN
BEGIN:VEVENT
DTSTART:20170429T160000Z
DTEND:20170429T230000Z
X-MICROSOFT-CDO-ALLDAYEVENT:FALSE
SUMMARY:Vino and VIbes ft Dr Paul Constantine at Hightower Creek Vineyards
DESCRIPTION:Join us for a fun afternoon with Dr. Paul Constantine! $10.00/person includes a glass of wine or tasting or $4.00 per person with the purchase of bottle of wine. Bring a picnic lunch! Cheese and snacks available. Children and leashed dogs welcome.\n\n\n+
X-ALT-DESC;FMTTYPE=text/html:<div>\n<p>Join us for a fun afternoon with Dr. Paul Constantine!&nbsp\;$10.00/person includes a glass of wine or tasting or $4.00 per person with the purchase of bottle of wine. Bring a picnic lunch!&nbsp\;Cheese and snacks available. Children and leashed dogs welcome.</p>\n</div>\n\n<div><a class="tribe-events-gcal tribe-events-button" href="https://www.google.com/calendar/event?action=TEMPLATE&amp\;text=Vino+and+Vibes&amp\;dates=20170429T120000/20170429T190000&amp\;details=Join+us+for+a+fun+afternoon+with+Dr.+Paul+Constantine%21%C2%A0%2410.00%2Fperson+includes+a+glass+of+wine+or+tasting+or+%244.00+per+person+with+the+purchase+of+bottle+of+wine.+Bring+a+picnic+lunch%21%C2%A0Cheese+and+snacks+available.+Children+and+leashed+dogs+welcome.+%0A&amp\;location=7150+Canaan+Drive%2C+Hiawassee%2C+GA%2C+30546%2C+United+States&amp\;trp=false&amp\;sprop=website:http://hightowercreekvineyards.com&amp\;ctz=Atlantic%2FAzores" style="box-sizing: border-box\; word-wrap: break-word\; background-image: none\; background-color: rgb(102\, 102\, 102)\; color: rgb(255\, 255\, 255)\; text-decoration: none\; border-top-left-radius: 3px\; border-top-right-radius: 3px\; border-bottom-right-radius: 3px\; border-bottom-left-radius: 3px\; border: 0px\; box-shadow: none\; cursor: pointer\; display: inline-block\; font-size: 11px\; font-weight: 700\; letter-spacing: 1px\; line-height: normal\; padding: 6px 9px\; text-align: center\; text-transform: uppercase\; vertical-align: middle\; zoom: 1\; margin-right: 9px\; clear: both\; float: none\; margin-top: 21px\; background-position: initial initial\; background-repeat: initial initial\;" title="Add to Google Calendar">+</a></div>\n
LOCATION:7150 Canaan Drive Hiawassee\, GA 30546
UID:e.256.71415
SEQUENCE:3
DTSTAMP:20260420T024423Z
URL:https://members.visitblairsvillega.com/events/details/vino-and-vibes-ft-dr-paul-constantine-at-hightower-creek-vineyards-71415
END:VEVENT

END:VCALENDAR
