BEGIN:VCALENDAR
VERSION:2.0
PRODID:-//ChamberMaster//Event Calendar 2.0//EN
METHOD:PUBLISH
X-PUBLISHED-TTL:P3D
REFRESH-INTERVAL:P3D
CALSCALE:GREGORIAN
BEGIN:VEVENT
DTSTART:20161001T180000Z
DTEND:20161001T210000Z
X-MICROSOFT-CDO-ALLDAYEVENT:FALSE
SUMMARY:Vino and Vibes ft Hope Griffin at Hightower Creek Vineyards
DESCRIPTION:We're excited to welcome Hope Griffin back to Hightower Creek! Hope is a very talented singer/songwriter and we love to have her here.\n\nHope's "in your-face" style of ballad writing\, as well as her reputation for playing songs that span through the decades has made her popular amongst a wide range of age groups.\n\nHope continues to wow audiences and stretch the musical boundaries by switching from soulful ballads to high-energy blues with ease. If you're in the area\, do yourself a favor and come see her play. Her free spirited personality and ability to tell beautiful stories through song make her a true force to be reckoned with   and a hard excuse to miss!\n\nTickets are $10 and include a tasting or glass of wine. Feel free to bring a picnic lunch or try one of our cheese samplers from Udderly Cool Dairy! Children are welcome\, as are leashed pets (on the deck).
X-ALT-DESC;FMTTYPE=text/html:<p>We&rsquo\;re excited to welcome Hope Griffin back to Hightower Creek! Hope is a very talented singer/songwriter and we love to have her here.</p>\n\n<p>Hope&rsquo\;s &ldquo\;in your-face&rdquo\; style of ballad writing\, as well as her reputation for playing songs that span through the decades has made her popular amongst a wide range of age groups.<br />\nHope continues to wow audiences and stretch the musical boundaries by switching from soulful ballads to high-energy blues with ease. If you&rsquo\;re in the area\, do yourself a favor and come see her play. Her free spirited personality and ability to tell beautiful stories through song make her a true force to be reckoned with &ndash\; and a hard excuse to miss!</p>\n\n<p>Tickets are $10 and include a tasting or glass of wine. Feel free to bring a picnic lunch or try one of our cheese samplers from Udderly Cool Dairy! Children are welcome\, as are leashed pets (on the deck).</p>\n
LOCATION:7150 Canaan Drive Hiawassee\, GA 30546
UID:e.256.58184
SEQUENCE:3
DTSTAMP:20260420T131618Z
URL:https://members.visitblairsvillega.com/events/details/vino-and-vibes-ft-hope-griffin-at-hightower-creek-vineyards-58184
END:VEVENT

END:VCALENDAR
