BEGIN:VCALENDAR
VERSION:2.0
PRODID:-//ChamberMaster//Event Calendar 2.0//EN
METHOD:PUBLISH
X-PUBLISHED-TTL:P3D
REFRESH-INTERVAL:P3D
CALSCALE:GREGORIAN
BEGIN:VEVENT
DTSTART:20160618T180000Z
DTEND:20160618T210000Z
X-MICROSOFT-CDO-ALLDAYEVENT:FALSE
SUMMARY:Vino and Vibes ft Kaleb Garrett and Jordan Marshal at Hightower Creek Vineyards
DESCRIPTION:Join us for Vino and Vibes with special guest Kaleb & Jordan! Kaleb Garrett is a multi-instrumentalist and songwriter from Hiawassee\, Georgia. True to his musical roots\, Kaleb performs an eclectic mix of folk\, rock\, and blues music- both originals and covers. Jordan Marshall is also a very accomplished singer/musician that performs a wide variety of genres. Together\, they are truly entertaining!\n\nAdmission is $10 and includes a tasting or glass of wine. Children are welcome! Leashed dogs are welcome on the deck. Feel free to bring a picnic\, or purchase an artisan cheese sampler!
X-ALT-DESC;FMTTYPE=text/html:<p>Join us for Vino and Vibes with special guest Kaleb &amp\; Jordan! Kaleb Garrett is a multi-instrumentalist and songwriter from Hiawassee\, Georgia. True to his musical roots\, Kaleb performs an eclectic mix of folk\, rock\, and blues music- both originals and covers.&nbsp\;Jordan Marshall is also a very accomplished singer/musician that performs a wide variety of genres. Together\, they are truly entertaining!</p>\n\n<p>Admission is $10 and includes a tasting or glass of wine. Children are welcome! Leashed dogs are welcome on the deck. Feel free to bring a picnic\, or purchase an artisan cheese sampler!</p>\n
LOCATION:7150 Canaan Drive Hiawassee\, GA 30546
UID:e.256.52699
SEQUENCE:3
DTSTAMP:20260420T223421Z
URL:https://members.visitblairsvillega.com/events/details/vino-and-vibes-ft-kaleb-garrett-and-jordan-marshal-at-hightower-creek-vineyards-06-18-2016-52699
END:VEVENT

END:VCALENDAR
