BEGIN:VCALENDAR
VERSION:2.0
PRODID:-//ChamberMaster//Event Calendar 2.0//EN
METHOD:PUBLISH
X-PUBLISHED-TTL:P3D
REFRESH-INTERVAL:P3D
CALSCALE:GREGORIAN
BEGIN:VEVENT
DTSTART:20170930T180000Z
DTEND:20170930T210000Z
X-MICROSOFT-CDO-ALLDAYEVENT:FALSE
SUMMARY:Vino and Vibes ft Kaleb Garrett and Jordan Marshall at Hightower Creek Vineyards
DESCRIPTION:Kaleb and Jordan (and our wines!) are a crowd favorite at Hightower Creek Vineyards. Come see why this afternoon!\n\nVino & Vibes concert series runs every Saturday from 2:00   5:00pm. Admission is $10 and includes a glass of wine or tasting. Feel free to bring a picnic lunch or enjoy a cheese sampler. Hightower Creek is family and pet friendly\, so children and leashed dogs are welcome on the deck.
X-ALT-DESC;FMTTYPE=text/html:<p>Kaleb and Jordan (and our wines!) are a crowd favorite at Hightower Creek Vineyards. Come see why this afternoon!</p>\n\n<p>Vino &amp\; Vibes concert series runs every Saturday from 2:00 &ndash\; 5:00pm. Admission is $10 and includes a glass of wine or tasting. Feel free to bring a picnic lunch or enjoy a cheese sampler. Hightower Creek is family and pet friendly\, so children and leashed dogs are welcome on the deck.</p>\n
LOCATION:7150 Canaan Drive Hiawassee\, GA 30546
UID:e.256.76001
SEQUENCE:3
DTSTAMP:20260419T180205Z
URL:https://members.visitblairsvillega.com/events/details/vino-and-vibes-ft-kaleb-garrett-and-jordan-marshall-at-hightower-creek-vineyards-09-30-2017-76001
END:VEVENT

END:VCALENDAR
