BEGIN:VCALENDAR
VERSION:2.0
PRODID:-//ChamberMaster//Event Calendar 2.0//EN
METHOD:PUBLISH
X-PUBLISHED-TTL:P3D
REFRESH-INTERVAL:P3D
CALSCALE:GREGORIAN
BEGIN:VEVENT
DTSTART:20170819T180000Z
DTEND:20170819T210000Z
X-MICROSOFT-CDO-ALLDAYEVENT:FALSE
SUMMARY:Vino and Vibes ft Kaleb Garrett and Old King Cole
DESCRIPTION:We have Kaleb Garrett and his band Old King Cole for our Vino and Vibes this afternoon! They are just awesome together! Come enjoy their music and our wine this afternoon!\n\nVino & Vibes concert series runs every Saturday from 2:00   5:00pm. Admission is $10 and includes a glass of wine or tasting. Feel free to bring a picnic lunch or enjoy a cheese sampler. Hightower Creek is family and pet friendly\, so children and leashed dogs are welcome on the deck.
X-ALT-DESC;FMTTYPE=text/html:<p>We have Kaleb Garrett and his band Old King Cole&nbsp\;for our Vino and Vibes this afternoon! They are just awesome together! Come enjoy their music and our wine this afternoon!</p>\n\n<p>Vino &amp\; Vibes concert series runs every Saturday from 2:00 &ndash\; 5:00pm. Admission is $10 and includes a glass of wine or tasting. Feel free to bring a picnic lunch or enjoy a cheese sampler. Hightower Creek is family and pet friendly\, so children and leashed dogs are welcome on the deck.</p>\n
LOCATION:7150 Canaan Drive Hiawassee\, GA 30546
UID:e.256.75395
SEQUENCE:3
DTSTAMP:20260419T195259Z
URL:https://members.visitblairsvillega.com/events/details/vino-and-vibes-ft-kaleb-garrett-and-old-king-cole-75395
END:VEVENT

END:VCALENDAR
