BEGIN:VCALENDAR
VERSION:2.0
PRODID:-//ChamberMaster//Event Calendar 2.0//EN
METHOD:PUBLISH
X-PUBLISHED-TTL:P3D
REFRESH-INTERVAL:P3D
CALSCALE:GREGORIAN
BEGIN:VEVENT
DTSTART:20170422T160000Z
DTEND:20170422T210000Z
X-MICROSOFT-CDO-ALLDAYEVENT:FALSE
SUMMARY:Vino and Vibes ft Kaleb Garrett at Hightower Creek Vineyards
DESCRIPTION:We welcome Kaleb Garrett back for our Vino and Vibes series. Kaleb is a crowd favorite at HCV. Come see for yourself why! $10.00/person includes a glass of wine or tasting or $4.00 per person with the purchase of bottle of wine. Bring a picnic lunch! Cheese and snacks available. Children and leashed dogs welcome.
X-ALT-DESC;FMTTYPE=text/html:<div>\n<p>We welcome Kaleb Garrett back for our Vino and Vibes series. Kaleb is a crowd favorite at HCV. Come see for yourself why!&nbsp\;$10.00/person includes a glass of wine or tasting or $4.00 per person with the purchase of bottle of wine. Bring a picnic lunch!&nbsp\;Cheese and snacks available. Children and leashed dogs welcome.</p>\n\n<div>&nbsp\;</div>\n</div>\n
LOCATION:7150 Canaan Drive Hiawassee\, GA 30546
UID:e.256.71414
SEQUENCE:3
DTSTAMP:20260420T035238Z
URL:https://members.visitblairsvillega.com/events/details/vino-and-vibes-ft-kaleb-garrett-at-hightower-creek-vineyards-71414
END:VEVENT

END:VCALENDAR
