BEGIN:VCALENDAR
VERSION:2.0
PRODID:-//ChamberMaster//Event Calendar 2.0//EN
METHOD:PUBLISH
X-PUBLISHED-TTL:P3D
REFRESH-INTERVAL:P3D
CALSCALE:GREGORIAN
BEGIN:VEVENT
DTSTART:20160611T180000Z
DTEND:20160611T210000Z
X-MICROSOFT-CDO-ALLDAYEVENT:FALSE
SUMMARY:Vino and Vibes ft Mike Brookshire at Hightower Creek Vineyards
DESCRIPTION:Don't miss this one! Spend Saturday afternoon in the mountains jamming to our of our most dynamic\, engaging and talented artists\, Mike Brookshire. Mike is one of our most popular performers and you'll see why! With a mix of country and classic rock\, Mike always has the deck up and dancing.\n\nAdmission is $10 and includes a glass of wine or tasting. Feel free to bring a picnic lunch or enjoy a cheese sampler from Udderly Cool Dairy! Children are welcome\, as are leashed pets (on the deck).
X-ALT-DESC;FMTTYPE=text/html:<p>Don&rsquo\;t miss this one! Spend Saturday afternoon in the mountains jamming to our of our most dynamic\, engaging and talented artists\, Mike Brookshire. Mike is one of our most popular performers and you&rsquo\;ll see why! With a mix of country and classic rock\, Mike always has the deck up and dancing.</p>\n\n<p>Admission is $10 and includes a glass of wine or tasting. Feel free to bring a picnic lunch or enjoy a cheese sampler from Udderly Cool Dairy! Children are welcome\, as are leashed pets (on the deck).</p>\n
LOCATION:7150 Canaan Drive Hiawassee\, GA 30546
UID:e.256.52698
SEQUENCE:3
DTSTAMP:20260420T204643Z
URL:https://members.visitblairsvillega.com/events/details/vino-and-vibes-ft-mike-brookshire-at-hightower-creek-vineyards-06-11-2016-52698
END:VEVENT

END:VCALENDAR
