BEGIN:VCALENDAR
VERSION:2.0
PRODID:-//ChamberMaster//Event Calendar 2.0//EN
METHOD:PUBLISH
X-PUBLISHED-TTL:P3D
REFRESH-INTERVAL:P3D
CALSCALE:GREGORIAN
BEGIN:VEVENT
DTSTART:20160917T180000Z
DTEND:20160917T210000Z
X-MICROSOFT-CDO-ALLDAYEVENT:FALSE
SUMMARY:Vino and Vibes ft Monica and Derek at Hightower Creek Vineyards
DESCRIPTION:Come out and enjoy an afternoon of music and wine with one of our favorite performers\, Monica Spears & Derek Worth. Monica's smoky vocals and Derek's extraordinary talent on guitar pair extremely well with wine!\n\nAdmission is $10 and includes a glass of wine or tasting. Feel free to bring a picnic lunch or try a cheese sampler from Udderly Cool Dairy! Children are welcome\, as are leashed pets (on the deck).
X-ALT-DESC;FMTTYPE=text/html:<p>Come out and enjoy an afternoon of music and wine with one of our favorite performers\, Monica Spears &amp\; Derek Worth. Monica&rsquo\;s smoky vocals and Derek&rsquo\;s extraordinary talent on guitar pair extremely well with wine!</p>\n\n<p>Admission is $10 and includes a glass of wine or tasting. Feel free to bring a picnic lunch or try a cheese sampler from Udderly Cool Dairy! Children are welcome\, as are leashed pets (on the deck).</p>\n
LOCATION:7150 Canaan Drive Hiawassee\, GA 30546
UID:e.256.58129
SEQUENCE:3
DTSTAMP:20260420T165053Z
URL:https://members.visitblairsvillega.com/events/details/vino-and-vibes-ft-monica-and-derek-at-hightower-creek-vineyards-58129
END:VEVENT

END:VCALENDAR
